BEGIN:VCALENDAR
VERSION:2.0
PRODID:-//Kidscool Site - ECPv6.15.12.2//NONSGML v1.0//EN
CALSCALE:GREGORIAN
METHOD:PUBLISH
X-WR-CALNAME:Kidscool Site
X-ORIGINAL-URL:https://polskaszkola.uk
X-WR-CALDESC:Wydarzenia dla Kidscool Site
REFRESH-INTERVAL;VALUE=DURATION:PT1H
X-Robots-Tag:noindex
X-PUBLISHED-TTL:PT1H
BEGIN:VTIMEZONE
TZID:Europe/London
BEGIN:DAYLIGHT
TZOFFSETFROM:+0000
TZOFFSETTO:+0100
TZNAME:BST
DTSTART:20230326T010000
END:DAYLIGHT
BEGIN:STANDARD
TZOFFSETFROM:+0100
TZOFFSETTO:+0000
TZNAME:GMT
DTSTART:20231029T010000
END:STANDARD
BEGIN:DAYLIGHT
TZOFFSETFROM:+0000
TZOFFSETTO:+0100
TZNAME:BST
DTSTART:20240331T010000
END:DAYLIGHT
BEGIN:STANDARD
TZOFFSETFROM:+0100
TZOFFSETTO:+0000
TZNAME:GMT
DTSTART:20241027T010000
END:STANDARD
BEGIN:DAYLIGHT
TZOFFSETFROM:+0000
TZOFFSETTO:+0100
TZNAME:BST
DTSTART:20250330T010000
END:DAYLIGHT
BEGIN:STANDARD
TZOFFSETFROM:+0100
TZOFFSETTO:+0000
TZNAME:GMT
DTSTART:20251026T010000
END:STANDARD
BEGIN:DAYLIGHT
TZOFFSETFROM:+0000
TZOFFSETTO:+0100
TZNAME:BST
DTSTART:20260329T010000
END:DAYLIGHT
BEGIN:STANDARD
TZOFFSETFROM:+0100
TZOFFSETTO:+0000
TZNAME:GMT
DTSTART:20261025T010000
END:STANDARD
BEGIN:DAYLIGHT
TZOFFSETFROM:+0000
TZOFFSETTO:+0100
TZNAME:BST
DTSTART:20270328T010000
END:DAYLIGHT
BEGIN:STANDARD
TZOFFSETFROM:+0100
TZOFFSETTO:+0000
TZNAME:GMT
DTSTART:20271031T010000
END:STANDARD
END:VTIMEZONE
BEGIN:VEVENT
DTSTART;TZID=Europe/London:20260314T093000
DTEND;TZID=Europe/London:20260314T130000
DTSTAMP:20260417T202708
CREATED:20250721T002450Z
LAST-MODIFIED:20250721T002450Z
UID:10000077-1773480600-1773493200@polskaszkola.uk
SUMMARY:Zajęcia lekcyjne w Polskiej Szkole w Ravenscourt Park
DESCRIPTION:Zajęcia lekcyjne w Polskiej Szkole w Ravenscourt Park \nSerdecznie zapraszamy wszystkie dzieci i młodzież polskiego pochodzenia do Polskiej Szkoły Sobotniej w Ravenscourt Park w Londynie. Placówka mieści się naprzeciwko Polskiego Ośrodka Społeczno-Kulturalnego (POSK) przy 238-246 King Street. \nZajęcia szkolne odbywają się w soboty w godzinach 9:30-13:00. Uczniowie podzieleni są na klasy od przedszkola po GCSE. Program nauczania obejmuje język polski\, historię\, geografię Polski\, wiedzę o kulturze i czytelnictwo. \nKadra pedagogiczna dba o rozwój kompetencji językowych dzieci dwujęzycznych\, pielęgnuje polską tradycję i kulturę\, rozwija talenty artystyczne. Szkoła organizuje też wydarzenia okolicznościowe i wycieczki w polskie rejony Londynu. \nWszystkie informacje o rekrutacji i ofercie zajęć znajdują się na stronie internetowej www.polskaszkola.uk\nZapraszamy!
URL:https://polskaszkola.uk/event/zajecia-lekcyjne-w-polskiej-szkole-w-ravenscourt-park-13/
CATEGORIES:Wydarzenia szkolne,Zajęcia lekcyjne
ATTACH;FMTTYPE=image/jpeg:https://polskaszkola.uk/wp-content/uploads/2024/01/Polska-szkola-Ravenscourt-Park-11.jpg
END:VEVENT
BEGIN:VEVENT
DTSTART;TZID=Europe/London:20260228T093000
DTEND;TZID=Europe/London:20260228T130000
DTSTAMP:20260417T202708
CREATED:20250721T002423Z
LAST-MODIFIED:20250721T002423Z
UID:10000076-1772271000-1772283600@polskaszkola.uk
SUMMARY:Zajęcia lekcyjne w Polskiej Szkole w Ravenscourt Park
DESCRIPTION:Zajęcia lekcyjne w Polskiej Szkole w Ravenscourt Park \nSerdecznie zapraszamy wszystkie dzieci i młodzież polskiego pochodzenia do Polskiej Szkoły Sobotniej w Ravenscourt Park w Londynie. Placówka mieści się naprzeciwko Polskiego Ośrodka Społeczno-Kulturalnego (POSK) przy 238-246 King Street. \nZajęcia szkolne odbywają się w soboty w godzinach 9:30-13:00. Uczniowie podzieleni są na klasy od przedszkola po GCSE. Program nauczania obejmuje język polski\, historię\, geografię Polski\, wiedzę o kulturze i czytelnictwo. \nKadra pedagogiczna dba o rozwój kompetencji językowych dzieci dwujęzycznych\, pielęgnuje polską tradycję i kulturę\, rozwija talenty artystyczne. Szkoła organizuje też wydarzenia okolicznościowe i wycieczki w polskie rejony Londynu. \nWszystkie informacje o rekrutacji i ofercie zajęć znajdują się na stronie internetowej www.polskaszkola.uk\nZapraszamy!
URL:https://polskaszkola.uk/event/zajecia-lekcyjne-w-polskiej-szkole-w-ravenscourt-park-12/
CATEGORIES:Wydarzenia szkolne,Zajęcia lekcyjne
ATTACH;FMTTYPE=image/jpeg:https://polskaszkola.uk/wp-content/uploads/2024/01/Polska-szkola-Ravenscourt-Park-11.jpg
END:VEVENT
BEGIN:VEVENT
DTSTART;TZID=Europe/London:20260207T093000
DTEND;TZID=Europe/London:20260207T130000
DTSTAMP:20260417T202708
CREATED:20250721T002055Z
LAST-MODIFIED:20250721T002337Z
UID:10000075-1770456600-1770469200@polskaszkola.uk
SUMMARY:Zajęcia lekcyjne w Polskiej Szkole w Ravenscourt Park
DESCRIPTION:Zajęcia lekcyjne w Polskiej Szkole w Ravenscourt Park \nSerdecznie zapraszamy wszystkie dzieci i młodzież polskiego pochodzenia do Polskiej Szkoły Sobotniej w Ravenscourt Park w Londynie. Placówka mieści się naprzeciwko Polskiego Ośrodka Społeczno-Kulturalnego (POSK) przy 238-246 King Street. \nZajęcia szkolne odbywają się w soboty w godzinach 9:30-13:00. Uczniowie podzieleni są na klasy od przedszkola po GCSE. Program nauczania obejmuje język polski\, historię\, geografię Polski\, wiedzę o kulturze i czytelnictwo. \nKadra pedagogiczna dba o rozwój kompetencji językowych dzieci dwujęzycznych\, pielęgnuje polską tradycję i kulturę\, rozwija talenty artystyczne. Szkoła organizuje też wydarzenia okolicznościowe i wycieczki w polskie rejony Londynu. \nWszystkie informacje o rekrutacji i ofercie zajęć znajdują się na stronie internetowej www.polskaszkola.uk\nZapraszamy!
URL:https://polskaszkola.uk/event/zajecia-lekcyjne-w-polskiej-szkole-w-ravenscourt-park-11/
CATEGORIES:Wydarzenia szkolne,Zajęcia lekcyjne
ATTACH;FMTTYPE=image/jpeg:https://polskaszkola.uk/wp-content/uploads/2024/01/Polska-szkola-Ravenscourt-Park-11.jpg
END:VEVENT
BEGIN:VEVENT
DTSTART;TZID=Europe/London:20260117T093000
DTEND;TZID=Europe/London:20260117T130000
DTSTAMP:20260417T202708
CREATED:20240809T175353Z
LAST-MODIFIED:20260107T103812Z
UID:10000064-1768642200-1768654800@polskaszkola.uk
SUMMARY:Lekcje o zimie w Polsce
DESCRIPTION:Lekcje o zimie w Polsce pozwalają im lepiej zrozumieć kraj swoich przodków\, jego klimat i tradycje. Dzięki temu mogą poczuć więź z Polską. \n\nRozwijanie wiedzy o przyrodzie:\nPolska zima jest specyficzna i różni się od zim w wielu innych krajach. Dzięki lekcjom na ten temat dzieci uczą się o cyklach przyrody\, właściwościach śniegu i lodu oraz adaptacjach zwierząt do życia w chłodnych warunkach.\nNauka przez doświadczenie:\nEksperymenty ze śniegiem i lodem pozwalają dzieciom na praktyczne poznanie zjawisk związanych z zimą. Uczą się one obserwacji\, wnioskowania i myślenia naukowego\, co jest kluczowe dla ich ogólnego rozwoju edukacyjnego.\nRozwijanie kreatywności:\nWarsztaty plastyczne\, tworzenie prac plastycznych czy budowanie igloo z klocków lodu rozwijają zdolności manualne dzieci i stymulują ich wyobraźnię.\nRozwijanie umiejętności językowych:\nUtrwalanie i rozwijanie umiejętności językowych.
URL:https://polskaszkola.uk/event/lekcje-o-zimie-w-polsce/
CATEGORIES:Sport i aktywność fizyczna,Zajęcia lekcyjne
ATTACH;FMTTYPE=image/jpeg:https://polskaszkola.uk/wp-content/uploads/2024/08/Polska-szkola-Ravenscourt-Park-29.jpg
END:VEVENT
BEGIN:VEVENT
DTSTART;TZID=Europe/London:20251129T093000
DTEND;TZID=Europe/London:20251129T130000
DTSTAMP:20260417T202708
CREATED:20250721T001733Z
LAST-MODIFIED:20250721T001733Z
UID:10000074-1764408600-1764421200@polskaszkola.uk
SUMMARY:Zajęcia lekcyjne w Polskiej Szkole w Ravenscourt Park
DESCRIPTION:Zajęcia lekcyjne w Polskiej Szkole w Ravenscourt Park \nSerdecznie zapraszamy wszystkie dzieci i młodzież polskiego pochodzenia do Polskiej Szkoły Sobotniej w Ravenscourt Park w Londynie. Placówka mieści się naprzeciwko Polskiego Ośrodka Społeczno-Kulturalnego (POSK) przy 238-246 King Street. \nZajęcia szkolne odbywają się w soboty w godzinach 9:30-13:00. Uczniowie podzieleni są na klasy od przedszkola po GCSE. Program nauczania obejmuje język polski\, historię\, geografię Polski\, wiedzę o kulturze i czytelnictwo. \nKadra pedagogiczna dba o rozwój kompetencji językowych dzieci dwujęzycznych\, pielęgnuje polską tradycję i kulturę\, rozwija talenty artystyczne. Szkoła organizuje też wydarzenia okolicznościowe i wycieczki w polskie rejony Londynu. \nWszystkie informacje o rekrutacji i ofercie zajęć znajdują się na stronie internetowej www.polskaszkola.uk\nZapraszamy!
URL:https://polskaszkola.uk/event/zajecia-lekcyjne-w-polskiej-szkole-w-ravenscourt-park-10/
CATEGORIES:Wydarzenia szkolne,Zajęcia lekcyjne
ATTACH;FMTTYPE=image/jpeg:https://polskaszkola.uk/wp-content/uploads/2024/01/Polska-szkola-Ravenscourt-Park-11.jpg
END:VEVENT
BEGIN:VEVENT
DTSTART;TZID=Europe/London:20251115T093000
DTEND;TZID=Europe/London:20251115T130000
DTSTAMP:20260417T202708
CREATED:20240809T184941Z
LAST-MODIFIED:20250721T081408Z
UID:10000070-1763199000-1763211600@polskaszkola.uk
SUMMARY:Zajęcia lekcyjne w Polskiej Szkole w Ravenscourt Park
DESCRIPTION:Zajęcia lekcyjne w Polskiej Szkole w Ravenscourt Park \nSerdecznie zapraszamy wszystkie dzieci i młodzież polskiego pochodzenia do Polskiej Szkoły Sobotniej w Ravenscourt Park w Londynie. Placówka mieści się naprzeciwko Polskiego Ośrodka Społeczno-Kulturalnego (POSK) przy 238-246 King Street. \nZajęcia szkolne odbywają się w soboty w godzinach 9:30-13:00. Uczniowie podzieleni są na klasy od przedszkola po GCSE. Program nauczania obejmuje język polski\, historię\, geografię Polski\, wiedzę o kulturze i czytelnictwo. \nKadra pedagogiczna dba o rozwój kompetencji językowych dzieci dwujęzycznych\, pielęgnuje polską tradycję i kulturę\, rozwija talenty artystyczne. Szkoła organizuje też wydarzenia okolicznościowe i wycieczki w polskie rejony Londynu. \nWszystkie informacje o rekrutacji i ofercie zajęć znajdują się na stronie internetowej www.polskaszkola.uk\nZapraszamy!
URL:https://polskaszkola.uk/event/zajecia-lekcyjne-w-polskiej-szkole-w-ravenscourt-park-9/
CATEGORIES:Wydarzenia szkolne,Zajęcia lekcyjne
ATTACH;FMTTYPE=image/jpeg:https://polskaszkola.uk/wp-content/uploads/2024/01/Polska-szkola-Ravenscourt-Park-11.jpg
END:VEVENT
BEGIN:VEVENT
DTSTART;TZID=Europe/London:20251027T090000
DTEND;TZID=Europe/London:20251031T130000
DTSTAMP:20260417T202708
CREATED:20240809T155206Z
LAST-MODIFIED:20250721T001206Z
UID:10000041-1761555600-1761915600@polskaszkola.uk
SUMMARY:Half-term z językiem polskim
DESCRIPTION:Half-term z językiem polski! \nSerdecznie zapraszamy wszystkie dzieci do uczestnictwa w naszym wyjątkowym programie half-term\, który łączy naukę języka polskiego z zabawą i innowacją. Nasz program to doskonała okazja\, aby poprzez zabawę\, kreatywność i interakcję rozwijać umiejętności językowe w międzynarodowym środowisku. \n\n\n\nPodczas ferii dzieci będą miały okazję brać udział w różnorodnych zajęciach\, które nie tylko pobudzają wyobraźnię\, ale także pomagają w rozwoju umiejętności językowych. W programie przewidziane są zajęcia edukacyjne\, taneczne\, plastyczne i artystyczne\, które są idealnie dostosowane do potrzeb młodych uczestników.\n\n\nNie przegapcie tej wyjątkowej okazji do rozwijania pasji i talentów Waszych dzieci w przyjaznej i stymulującej atmosferze. Liczba miejsc jest ograniczona\, więc zachęcamy do szybkiego zgłaszania uczestnictwa.\nProgram ferii wspiera Hammersmith United Charities. Thank you.\n\n\n\n\nNasze ferie odbędą się w dniach od 27 października do 31 października 2025 w Polskim Ośrodku Kulturalnym Polish Social & Cultural Association. Każdy dzień to nowa porcja wiedzy\, zabawy i emocji! W programie m.in.:\n\n\n– Warsztaty plastyczne: tworzenie plakatów\, flag\, kotylionów i innych prac związanych z polskimi świętami\n– Ciekawe rozmowy o wymarzonych zawodach i rysowanie postaci z nimi związanych\, spotkania z inspirującymi osobami\n– Poznawanie historii polskiej i wspólne prace grupowe\n– Gra terenowa z zagadkami i zadaniami\n– Tworzenie ozdób\, takich jak kwiaty z bibuły i mozaiki z symbolami pokoju\n– Wspólne śpiewanie tradycyjnych piosenek\n– Nauka polskich rękodzieł\, w tym wycinanek i kolorowanie\n\n\nWszystko to pod okiem wykwalifikowanej i pełnej pasji kadry pedagogicznej\, która zadba o bezpieczeństwo\, dobrą zabawę i niezapomniane wspomnienia Waszych pociech!\n\n\n\n\nKontakt: Masz pytania?\nSkontaktuj się z nami: info@polskaszkola.uk\nZ niecierpliwością czekamy na Wasze zgłoszenia.\n\n\nZ poważaniem\,\nDaria Wilkinson\nKoordynatorka programu \,\,Ferie z językiem polskim”
URL:https://polskaszkola.uk/event/half-term-z-jezykiem-polskim-2/
CATEGORIES:Ogłoszenia i komunikaty,Terminy zapisów i rekrutacji,Wydarzenia szkolne,Zajęcia dodatkowe
ATTACH;FMTTYPE=image/png:https://polskaszkola.uk/wp-content/uploads/2024/08/Strategies-Grow-on-Social-Networks-Instagram-Post-Carousel-.png
END:VEVENT
BEGIN:VEVENT
DTSTART;TZID=Europe/London:20251025T093000
DTEND;TZID=Europe/London:20251025T130000
DTSTAMP:20260417T202708
CREATED:20240809T174447Z
LAST-MODIFIED:20250721T000929Z
UID:10000062-1761384600-1761397200@polskaszkola.uk
SUMMARY:Zajęcia lekcyjne w Polskiej Szkole w Ravenscourt Park
DESCRIPTION:Zajęcia lekcyjne w Polskiej Szkole w Ravenscourt Park \nSerdecznie zapraszamy wszystkie dzieci i młodzież polskiego pochodzenia do Polskiej Szkoły Sobotniej w Ravenscourt Park w Londynie. Placówka mieści się naprzeciwko Polskiego Ośrodka Społeczno-Kulturalnego (POSK) przy 238-246 King Street. \nZajęcia szkolne odbywają się w soboty w godzinach 9:30-13:00. Uczniowie podzieleni są na klasy od przedszkola po GCSE. Program nauczania obejmuje język polski\, historię\, geografię Polski\, wiedzę o kulturze i czytelnictwo. \nKadra pedagogiczna dba o rozwój kompetencji językowych dzieci dwujęzycznych\, pielęgnuje polską tradycję i kulturę\, rozwija talenty artystyczne. Szkoła organizuje też wydarzenia okolicznościowe i wycieczki w polskie rejony Londynu. \nWszystkie informacje o rekrutacji i ofercie zajęć znajdują się na stronie internetowej www.polskaszkola.uk\nZapraszamy!
URL:https://polskaszkola.uk/event/zajecia-lekcyjne-w-polskiej-szkole-w-ravenscourt-park-6/
CATEGORIES:Zajęcia lekcyjne
ATTACH;FMTTYPE=image/jpeg:https://polskaszkola.uk/wp-content/uploads/2024/01/Polska-szkola-Ravenscourt-Park-11.jpg
END:VEVENT
BEGIN:VEVENT
DTSTART;TZID=Europe/London:20251018T093000
DTEND;TZID=Europe/London:20251018T130000
DTSTAMP:20260417T202708
CREATED:20240809T174623Z
LAST-MODIFIED:20250721T000601Z
UID:10000063-1760779800-1760792400@polskaszkola.uk
SUMMARY:Zajęcia lekcyjne w Polskiej Szkole w Ravenscourt Park
DESCRIPTION:Zajęcia lekcyjne w Polskiej Szkole w Ravenscourt Park \nSerdecznie zapraszamy wszystkie dzieci i młodzież polskiego pochodzenia do Polskiej Szkoły Sobotniej w Ravenscourt Park w Londynie. Placówka mieści się naprzeciwko Polskiego Ośrodka Społeczno-Kulturalnego (POSK) przy 238-246 King Street. \nZajęcia szkolne odbywają się w soboty w godzinach 9:30-13:00. Uczniowie podzieleni są na klasy od przedszkola po GCSE. Program nauczania obejmuje język polski\, historię\, geografię Polski\, wiedzę o kulturze i czytelnictwo. \nKadra pedagogiczna dba o rozwój kompetencji językowych dzieci dwujęzycznych\, pielęgnuje polską tradycję i kulturę\, rozwija talenty artystyczne. Szkoła organizuje też wydarzenia okolicznościowe i wycieczki w polskie rejony Londynu. \nWszystkie informacje o rekrutacji i ofercie zajęć znajdują się na stronie internetowej www.polskaszkola.uk\nZapraszamy!
URL:https://polskaszkola.uk/event/zajecia-lekcyjne-w-polskiej-szkole-w-ravenscourt-park-7/
CATEGORIES:Zajęcia lekcyjne
ATTACH;FMTTYPE=image/jpeg:https://polskaszkola.uk/wp-content/uploads/2024/01/Polska-szkola-Ravenscourt-Park-11.jpg
END:VEVENT
BEGIN:VEVENT
DTSTART;TZID=Europe/London:20250407T090000
DTEND;TZID=Europe/London:20250411T130000
DTSTAMP:20260417T202708
CREATED:20250331T103644Z
LAST-MODIFIED:20250331T103644Z
UID:10000072-1744016400-1744376400@polskaszkola.uk
SUMMARY:Half-term z językiem polskim
DESCRIPTION:Czy Twoje dziecko chce poznać polskie tradycje wielkanocne? Zapraszamy na wyjątkowe ferie z językiem polskim od 7 do 11 kwietnia w POSK-u\, organizowane przez naszą polską szkołę w Ravenscourt Park! Poznaj polskie tradycje wielkanocne – pisanki\, święconka\, śmigus-dyngus i wiele innych zwyczajów! Nauka języka polskiego w kreatywny sposób – poprzez zabawę\, sztukę i interaktywne zajęcia Zajęcia odbywają się codziennie od 9:00 do 13:00Podczas naszych warsztatów Twoje dziecko:– Pozna fascynujące wielkanocne tradycje z różnych regionów Polski– Rozwinie umiejętności językowe w przyjaznej atmosferze– Stworzy własne pisanki i palmy wielkanocne– Weźmie udział w tradycyjnych zabawach i kreatywnych warsztatachZapraszamy! Liczba miejsc ograniczona\, zapisz swoje dziecko już dziś!info@polskaszkola.uk
URL:https://polskaszkola.uk/event/half-term-z-jezykiem-polskim-3/
LOCATION:POSK\, 238 King Street\, Londyn\, Hammersmith\, W6 0RF\, United Kingdom
CATEGORIES:Dni wolne
ATTACH;FMTTYPE=image/jpeg:https://polskaszkola.uk/wp-content/uploads/2025/03/ferie-wielkanoc-scaled.jpg
END:VEVENT
BEGIN:VEVENT
DTSTART;TZID=Europe/London:20241207T090000
DTEND;TZID=Europe/London:20241207T130000
DTSTAMP:20260417T202708
CREATED:20240809T162019Z
LAST-MODIFIED:20240809T162019Z
UID:10000050-1733562000-1733576400@polskaszkola.uk
SUMMARY:Mikołajki
DESCRIPTION:Mikołajki w Polskiej Szkole Ravenscourt Park \nMikołajki to jedno z najbardziej oczekiwanych świąt przez dzieci w Polsce\, a w polskiej szkole sobotniej jest to okazja do świętowania polskich tradycji w radosnej\, świątecznej atmosferze. W pierwszą sobotę grudnia\, kiedy w szkołach odbywa się obchód Mikołajek\, cała społeczność szkolna zanurza się w magii tego dnia.
URL:https://polskaszkola.uk/event/mikolajki-2/
CATEGORIES:Projekty i konkursy,Święta i uroczystości,Zajęcia lekcyjne,Zajęcia specjalne
ATTACH;FMTTYPE=image/jpeg:https://polskaszkola.uk/wp-content/uploads/2023/08/8-09.12.2023-Mikolajki-warsztaty-swiateczne-copy.jpg
END:VEVENT
BEGIN:VEVENT
DTSTART;TZID=Europe/London:20241116T093000
DTEND;TZID=Europe/London:20241116T130000
DTSTAMP:20260417T202708
CREATED:20240809T160402Z
LAST-MODIFIED:20240809T185255Z
UID:10000045-1731749400-1731762000@polskaszkola.uk
SUMMARY:Zajęcia lekcyjne w Polskiej Szkole w Ravenscourt Park 
DESCRIPTION:Zajęcia lekcyjne w Polskiej Szkole w Ravenscourt Park \nSerdecznie zapraszamy wszystkie dzieci i młodzież polskiego pochodzenia do Polskiej Szkoły Sobotniej w Ravenscourt Park w Londynie. Placówka mieści się naprzeciwko Polskiego Ośrodka Społeczno-Kulturalnego (POSK) przy 238-246 King Street. \nZajęcia szkolne odbywają się w soboty w godzinach 9:30-13:00. Uczniowie podzieleni są na klasy od przedszkola po GCSE. Program nauczania obejmuje język polski\, historię\, geografię Polski\, wiedzę o kulturze i czytelnictwo. \nKadra pedagogiczna dba o rozwój kompetencji językowych dzieci dwujęzycznych\, pielęgnuje polską tradycję i kulturę\, rozwija talenty artystyczne. Szkoła organizuje też wydarzenia okolicznościowe i wycieczki w polskie rejony Londynu. \nWszystkie informacje o rekrutacji i ofercie zajęć znajdują się na stronie internetowej www.polskaszkola.uk\nZapraszamy!
URL:https://polskaszkola.uk/event/zajecia-lekcyjne-w-polskiej-szkole-w-ravenscourt-park-2/
CATEGORIES:Zajęcia lekcyjne
ATTACH;FMTTYPE=image/jpeg:https://polskaszkola.uk/wp-content/uploads/2024/01/Polska-szkola-Ravenscourt-Park-11.jpg
END:VEVENT
BEGIN:VEVENT
DTSTART;TZID=Europe/London:20240420T093000
DTEND;TZID=Europe/London:20240420T130000
DTSTAMP:20260417T202708
CREATED:20240106T163522Z
LAST-MODIFIED:20240410T062959Z
UID:10000026-1713605400-1713618000@polskaszkola.uk
SUMMARY:Dzień Ziemi
DESCRIPTION:Dzień Ziemi\, obchodzony corocznie 22 kwietnia\, jest szczególnym momentem\, kiedy zwracamy uwagę na naszą planetę i na to\, jak możemy dbać o jej przyszłość. Polska szkoła\, jako placówka edukacyjna z głębokimi korzeniami w tradycji i kulturze\, przykłada dużą wagę do świadomości ekologicznej swoich uczniów. Lekcja poświęcona Dniu Ziemi jest nie tylko okazją do nauki o środowiskowych wyzwaniach\, ale również do przemyślenia roli\, jaką każdy z nas może odegrać w ochronie naszego domu – Ziemi. \nDlaczego lekcja o Dniu Ziemi jest ważna?\nW dobie globalnych zmian klimatycznych i degradacji środowiska\, edukacja ekologiczna staje się niezbędna. Polska szkoła\, poprzez lekcje poświęcone Dniu Ziemi\, dąży do ukształtowania postaw odpowiedzialności i szacunku dla przyrody. Jest to szczególnie istotne dla młodego pokolenia\, które będzie musiało stawić czoła ekologicznym wyzwaniom przyszłości. Lekcja ta ma za zadanie nie tylko edukować\, ale również inspirować do działania i poszukiwania zrównoważonych rozwiązań. \nCele lekcji o Dniu Ziemi\nGłównym celem lekcji o Dniu Ziemi jest podniesienie świadomości ekologicznej uczniów. Pragniemy\, aby młodzi ludzie rozumiejąc złożoność ekosystemów\, nauczyli się doceniać ich wartość i zrozumieli konsekwencje ludzkiej działalności dla środowiska. Poprzez interaktywne zajęcia\, dyskusje oraz projekty\, uczniowie mają okazję zgłębiać tematy związane z ochroną środowiska\, takie jak recykling\, zrównoważone rolnictwo czy oszczędzanie zasobów naturalnych. Lekcja ta ma również na celu pokazanie\, jak ważne jest działanie lokalne w kontekście globalnych wyzwań.
URL:https://polskaszkola.uk/event/dzien-ziemi/
CATEGORIES:Wydarzenia szkolne
ATTACH;FMTTYPE=image/png:https://polskaszkola.uk/wp-content/uploads/2024/01/Polska-szkola-Ravenscourt-Park-21.png
END:VEVENT
BEGIN:VEVENT
DTSTART;TZID=Europe/London:20240316T093000
DTEND;TZID=Europe/London:20240316T130000
DTSTAMP:20260417T202708
CREATED:20240809T182813Z
LAST-MODIFIED:20240809T182813Z
UID:10000068-1710581400-1710594000@polskaszkola.uk
SUMMARY:Poznajemy polskich wynalazców - eksperymenty naukowe
DESCRIPTION:Poznajemy polskich wynalazców – eksperymenty naukowe \nZapraszamy wszystkich uczniów do udziału w niezwykłym wydarzeniu – Dniu Polskich Wynalazców. Podczas specjalnych zajęć dzieci poznają sylwetki wybitnych polskich naukowców i ich przełomowe odkrycia. \nNasi uczniowie polonijni wezmą udział w ciekawych eksperymentach naukowych śladami takich osobistości jak Maria Skłodowska-Curie.  Wspólnie odtworzą niektóre z ich kluczowych doświadczeń\, przybliżających zagadnienia z fizyki\, chemii\, matematyki. Dzieci samodzielnie przeprowadzą badania\, by lepiej poznać odkrycia polskich luminarzy nauki. \nTo świetna okazja do połączenia zabawy z edukacją. Eksperymenty rozbudzą ciekawość dzieci polonijnych\, zachęcą do samodzielnego poznawania otaczającego świata oraz wzbogacą wiedzę o polskim dziedzictwie. Mamy nadzieję\, że nasze wydarzenie pomoże młodym pokoleniom poczuć więź z krajem pochodzenia ich przodków i umocni ich polską tożsamość.
URL:https://polskaszkola.uk/event/poznajemy-polskich-wynalazcow-eksperymenty-naukowe-2/
CATEGORIES:Zajęcia lekcyjne
ATTACH;FMTTYPE=image/jpeg:https://polskaszkola.uk/wp-content/uploads/2024/01/Polska-szkola-Ravenscourt-Park-6.jpg
END:VEVENT
END:VCALENDAR