BEGIN:VCALENDAR
VERSION:2.0
PRODID:-//Kidscool Site - ECPv6.15.12.2//NONSGML v1.0//EN
CALSCALE:GREGORIAN
METHOD:PUBLISH
X-ORIGINAL-URL:https://polskaszkola.uk
X-WR-CALDESC:Wydarzenia dla Kidscool Site
REFRESH-INTERVAL;VALUE=DURATION:PT1H
X-Robots-Tag:noindex
X-PUBLISHED-TTL:PT1H
BEGIN:VTIMEZONE
TZID:Europe/London
BEGIN:DAYLIGHT
TZOFFSETFROM:+0000
TZOFFSETTO:+0100
TZNAME:BST
DTSTART:20220327T010000
END:DAYLIGHT
BEGIN:STANDARD
TZOFFSETFROM:+0100
TZOFFSETTO:+0000
TZNAME:GMT
DTSTART:20221030T010000
END:STANDARD
BEGIN:DAYLIGHT
TZOFFSETFROM:+0000
TZOFFSETTO:+0100
TZNAME:BST
DTSTART:20230326T010000
END:DAYLIGHT
BEGIN:STANDARD
TZOFFSETFROM:+0100
TZOFFSETTO:+0000
TZNAME:GMT
DTSTART:20231029T010000
END:STANDARD
BEGIN:DAYLIGHT
TZOFFSETFROM:+0000
TZOFFSETTO:+0100
TZNAME:BST
DTSTART:20240331T010000
END:DAYLIGHT
BEGIN:STANDARD
TZOFFSETFROM:+0100
TZOFFSETTO:+0000
TZNAME:GMT
DTSTART:20241027T010000
END:STANDARD
BEGIN:DAYLIGHT
TZOFFSETFROM:+0000
TZOFFSETTO:+0100
TZNAME:BST
DTSTART:20250330T010000
END:DAYLIGHT
BEGIN:STANDARD
TZOFFSETFROM:+0100
TZOFFSETTO:+0000
TZNAME:GMT
DTSTART:20251026T010000
END:STANDARD
END:VTIMEZONE
BEGIN:VEVENT
DTSTART;TZID=Europe/London:20240527T090000
DTEND;TZID=Europe/London:20240531T130000
DTSTAMP:20260423T110258
CREATED:20240524T155026Z
LAST-MODIFIED:20240524T155232Z
UID:10000036-1716800400-1717160400@polskaszkola.uk
SUMMARY:Half-term z językiem polskim
DESCRIPTION:Serdecznie zapraszamy wszystkie dzieci do uczestnictwa w naszym wyjątkowym programie half-term\, który łączy naukę języka polskiego z zabawą i innowacją. Nasz program to doskonała okazja\, aby poprzez zabawę\, kreatywność i interakcję rozwijać umiejętności językowe w międzynarodowym środowisku.\n\n\nPodczas ferii dzieci będą miały okazję brać udział w różnorodnych zajęciach\, które nie tylko pobudzają wyobraźnię\, ale także pomagają w rozwoju umiejętności językowych. W programie przewidziane są zajęcia edukacyjne\, taneczne\, plastyczne i artystyczne\, które są idealnie dostosowane do potrzeb młodych uczestników.\n\n\nNie przegapcie tej wyjątkowej okazji do rozwijania pasji i talentów Waszych dzieci w przyjaznej i stymulującej atmosferze. Liczba miejsc jest ograniczona\, więc zachęcamy do szybkiego zgłaszania uczestnictwa.\nProgram ferii wspiera Hammersmith United Charities. Thank you.\n\n\n\n\nNasze ferie odbędą się w dniach od 27 do 31 maja w Polskim Ośrodku Kulturalnym Polish Social & Cultural Association. Każdy dzień to nowa porcja wiedzy\, zabawy i emocji! W programie m.in.:\n\n\n– Warsztaty plastyczne: tworzenie plakatów\, flag\, kotylionów i innych prac związanych z polskimi świętami\n– Ciekawe rozmowy o wymarzonych zawodach i rysowanie postaci z nimi związanych\, spotkania z inspirującymi osobami\n– Poznawanie historii polskiej i wspólne prace grupowe\n– Gra terenowa z zagadkami i zadaniami\n– Tworzenie ozdób\, takich jak kwiaty z bibuły i mozaiki z symbolami pokoju\n– Wspólne śpiewanie tradycyjnych piosenek\n– Nauka polskich rękodzieł\, w tym wycinanek i kolorowanie\n\n\nWszystko to pod okiem wykwalifikowanej i pełnej pasji kadry pedagogicznej\, która zadba o bezpieczeństwo\, dobrą zabawę i niezapomniane wspomnienia Waszych pociech!\n\n\nCena tego wyjątkowego tygodniowego programu to jedyne £50 za cały tydzień (10£ za dzień ) W cenę wliczone są wszystkie materiały potrzebne do zajęć\, opieka w godzinach 9:00-13:00.\n\n\nNie zwlekajcie! Liczba miejsc jest ograniczona\, a zainteresowanie duże. Zapiszcie swoje dzieci już dziś i pozwólcie im przeżyć przygodę pełną wiedzy\, zabawy i niezapomnianych wspomnień!\n\n\n\n\nInstrukcje zapisu\nProsty formularz rejestracyjny czeka na Ciebie poniżej.\nsubscribepage.io/K8Sjqt\n\n\nZapisy trwają do 26 maja – liczba miejsc ograniczona!\n\n\nKontakt: Masz pytania?\nSkontaktuj się z nami: info@polskaszkola.uk\nZ niecierpliwością czekamy na Wasze zgłoszenia.\n\n\nZ poważaniem\,\nDaria Wilkinson\nKoordynatorka programu \,\,Ferie z językiem polskim”
URL:https://polskaszkola.uk/event/half-term-z-jezykiem-polskim/
CATEGORIES:Działania charytatywne,Ogłoszenia i komunikaty,Projekty i konkursy,Terminy zapisów i rekrutacji,Wydarzenia szkolne,Wyjścia i wycieczki,Zajęcia dodatkowe,Zajęcia specjalne
ATTACH;FMTTYPE=image/jpeg:https://polskaszkola.uk/wp-content/uploads/2024/05/half-term-may-2024.jpg
END:VEVENT
BEGIN:VEVENT
DTSTART;TZID=Europe/London:20240511T120000
DTEND;TZID=Europe/London:20240511T140000
DTSTAMP:20260423T110258
CREATED:20240411T203358Z
LAST-MODIFIED:20240411T203358Z
UID:10000035-1715428800-1715436000@polskaszkola.uk
SUMMARY:Dni Otwarte
DESCRIPTION:𝗭 𝗽𝗿𝘇𝘆𝗷𝗲𝗺𝗻𝗼ś𝗰𝗶ą 𝘇𝗮𝗽𝗿𝗮𝘀𝘇𝗮𝗺𝘆 𝗻𝗮 𝗗𝗿𝘇𝘄𝗶 𝗢𝘁𝘄𝗮𝗿𝘁𝗲 𝗱𝗼 𝗻𝗮𝘀𝘇𝗲𝗷 𝗽𝗼𝗹𝘀𝗸𝗶𝗲𝗷 𝘀𝘇𝗸𝗼ł𝘆!\n\n\nPodczas drzwi otwartych będzie możliwość zwiedzenia szkoły i poznania wychowawców oraz uzyskania niezbędnych informacji dotyczących rekrutacji.\n\n\nSerdecznie zapraszamy wszystkich zainteresowanych zarówna przyszłych uczniów\, jak i ich rodziców i opiekunów. Wszyscy jesteście mile widziani!\n\n\n𝗗𝗯𝗮𝗺𝘆 𝗼 𝗯𝗲𝘇𝗽𝗶𝗲𝗰𝘇𝗲ń𝘀𝘁𝘄𝗼 𝗻𝗮𝘀𝘇𝘆𝗰𝗵 𝘂𝗰𝘇𝗻𝗶ó𝘄\, 𝗱𝗹𝗮𝘁𝗲𝗴𝗼 𝗽𝗿𝗼𝘀𝗶𝗺𝘆 𝗼 𝘇𝗮𝗽𝗶𝘀𝗮𝗻𝗶𝗲 𝘀𝗶ę 𝗻𝗮 𝗹𝗶𝘀𝘁ę 𝗼𝘀ó𝗯 𝘇𝗮𝗶𝗻𝘁𝗲𝗿𝗲𝘀𝗼𝘄𝗮𝗻𝘆𝗰𝗵\, 𝗸𝗼𝗿𝘇𝘆𝘀𝘁𝗮𝗷ą𝗰 𝘇 𝗽𝗼𝗻𝗶ż𝘀𝘇𝗲𝗴𝗼 𝗹𝗶𝗻𝗸𝘂. 𝗗𝘇𝗶ę𝗸𝗶 𝘁𝗲𝗺𝘂 𝗯ę𝗱𝘇𝗶𝗲𝗺𝘆 𝗺𝗼𝗴𝗹𝗶 𝘇𝗮𝗽𝗲𝘄𝗻𝗶ć 𝗯𝗲𝘇𝗽𝗶𝗲𝗰𝘇𝗻𝗲 𝗶 𝗸𝗼𝗺𝗳𝗼𝗿𝘁𝗼𝘄𝗲 𝘄𝗮𝗿𝘂𝗻𝗸𝗶 𝗽𝗼𝗱𝗰𝘇𝗮𝘀 𝗻𝗮𝘀𝘇𝘆𝗰𝗵 𝗗𝗿𝘇𝘄𝗶 𝗢𝘁𝘄𝗮𝗿𝘁𝘆𝗰𝗵. \n\n\nLink do zapisów\nsubscribepage.io/ZNGDQ2 \n\nNajbliższe stacje metra: Ravenscourt Park 2 min\, Hammersmith 13 min \n\n\n\nWiemy\, że fizyczna obecność na Dniu Otwartym 13 kwietnia może być wyzwaniem dla wielu rodzin\, dlatego z wielką radością oferujemy alternatywę w postaci Wirtualnego Spotkania Otwartego.\nPodczas tego spotkania online zaprezentujemy nasz program nauczania\, przybliżymy kulturę szkolną i odpowiemy na wszystkie Wasze pytania. To także świetna okazja\, aby poznać naszych nauczycieli oraz usłyszeć dlaczego nasza szkoła polonijna jest wyjątkowym miejscem dla każdego dziecka.\nZachęcamy do rejestracji już dziś\, korzystając z poniższego linka do zapisów:\nhttp://subscribepage.io/myXV4v
URL:https://polskaszkola.uk/event/dni-otwarte/
CATEGORIES:Ogłoszenia i komunikaty,Terminy zapisów i rekrutacji,Wydarzenia szkolne
ATTACH;FMTTYPE=image/png:https://polskaszkola.uk/wp-content/uploads/2024/04/Polska-szkola-Ravenscourt-Park-22.png
END:VEVENT
BEGIN:VEVENT
DTSTART;TZID=Europe/London:20240413T093000
DTEND;TZID=Europe/London:20240511T130000
DTSTAMP:20260423T110258
CREATED:20240106T155518Z
LAST-MODIFIED:20240418T200010Z
UID:10000023-1713000600-1715432400@polskaszkola.uk
SUMMARY:Konkurs szkolny
DESCRIPTION:Ogłoszenie konkursu szkolnego\n z okazji Święta Polskiej Muzyki i Plastyki \nPolska Szkoła w Ravenscourt Park ogłasza konkurs szkolny organizowany z okazji Święta Polskiej Muzyki i Plastyki. Wydarzenie skierowane jest do uczniów polonijnych uczęszczających do naszej placówki\, a jego celem jest rozbudzenie zamiłowania do sztuki wśród dzieci wywodzących się z polskich rodzin mieszkających w Wielkiej Brytanii. \nKonkurs podzielony jest na dwie kategorie wiekowe \nUczniowie klas 0-3 mogą wziąć udział w konkursie plastycznym „Kolorowe nutki na pięciolini”\, polegającym na stworzeniu dowolną techniką pracy łączącej motywy muzyczne z elementami graficznymi.\nZ kolei starsi uczniowie z klas 4-8 wezmą udział w konkursie plastycznym  „Uśmiechnięty fortepian”\, którego celem jest wykonanie kreatywnej ilustrację z udziałem instrumentu muzycznego. \nRoztrzygnięcie konkursu szkolnego 11.05.2024 – prezentacja prac \n \n 
URL:https://polskaszkola.uk/event/konkurs-szkolny/
CATEGORIES:Święta i uroczystości,Święta Polskie,Zajęcia specjalne
ATTACH;FMTTYPE=image/jpeg:https://polskaszkola.uk/wp-content/uploads/2024/01/Polska-szkola-Ravenscourt-Park-10.jpg
END:VEVENT
BEGIN:VEVENT
DTSTART;VALUE=DATE:20240120
DTEND;VALUE=DATE:20240121
DTSTAMP:20260423T110258
CREATED:20230815T150451Z
LAST-MODIFIED:20230916T062012Z
UID:10000016-1705708800-1705795199@polskaszkola.uk
SUMMARY:Dzień Babci i Dziadka
DESCRIPTION:Dzień Babci i Dziadka\, obchodzony odpowiednio 21 i 22 stycznia\, to wyjątkowa okazja\, by oddać hołd najstarszemu pokoleniu naszych rodzin. Dla wielu z nas\, Babcie i Dziadkowie są symbolem mądrości\, tradycji i niezłomnej miłości rodziny. Ale dlaczego to święto ma tak duże znaczenie w polskich szkołach na obczyźnie? \n\nPodtrzymanie tradycji: Jednym z głównych celów istnienia naszej szkoły jest podtrzymywanie polskiej kultury\, języka i tradycji. Świętowanie Dnia Babci i Dziadka jest częścią tej misji. Uczy dzieci szacunku do starszego pokolenia i przypomina o wartościach\, jakie niesie za sobą polska kultura.\nMost między pokoleniami: Dla wielu polonijnych rodzin\, dziadkowie często pozostają w Polsce. Świętowanie ich dnia w szkole staje się okazją do nawiązania więzi\, nierzadko przekraczającej bariery geograficzne\, poprzez przygotowywanie laurki\, piosenki czy prezentu. \nWspomnienia i historie: Dzień Babci i Dziadka to doskonała okazja\, by przypomnieć uczniom o historiach rodzinnych\, o tym skąd pochodzimy\, jakie tradycje\, zwyczaje i wartości są nam bliskie. To także moment\, by przekazać młodszemu pokoleniu historie z życia ich dziadków\, które stanowią ważny element dziedzictwa rodzinnej historii.\nWzmocnienie więzi społecznych: Świętowanie tego dnia w polskiej szkole na obczyźnie pozwala uczniom na zrozumienie\, że mimo odległości geograficznej\, są częścią większej społeczności\, która dzieli wspólne wartości i tradycje. Pokazuje\, że mimo różnic kulturowych\, pewne wartości są uniwersalne.\nEdukacja emocjonalna: Uczczenie Dnia Babci i Dziadka uczy dzieci empatii\, wdzięczności oraz szacunku do starszych. Wspólne świętowanie\, przygotowywanie upominków czy występów sprzyja także integracji i budowaniu więzi między uczniami.\n\nPodsumowując\, świętowanie Dnia Babci i Dziadka w polskiej szkole n to nie tylko okazja do podziękowania naszym ukochanym babciom i dziadkom. To również czas refleksji nad naszym pochodzeniem\, tradycją i wartościami\, które chcemy przekazać kolejnym pokoleniom Polaków\, niezależnie od miejsca\, w którym się znajdują. \n 
URL:https://polskaszkola.uk/event/dzien-babci-i-dziadka/
LOCATION:Polska Szkoła Ravenscourt Park\, Latymer Upper School\, King Street\, London\, W6 9LR\, United Kingdom
ATTACH;FMTTYPE=image/jpeg:https://polskaszkola.uk/wp-content/uploads/2023/08/11-20.01.2024-Dzien-Babci-i-Dziadka-copy.jpg
ORGANIZER;CN="Daria Wilkinson":MAILTO:info@polskaszkola.uk
END:VEVENT
BEGIN:VEVENT
DTSTART;VALUE=DATE:20240113
DTEND;VALUE=DATE:20240114
DTSTAMP:20260423T110258
CREATED:20230815T145429Z
LAST-MODIFIED:20230916T072937Z
UID:10000015-1705104000-1705190399@polskaszkola.uk
SUMMARY:Lekcje o polskiej zimie
DESCRIPTION:Lekcje o zimie w Polsce pozwalają im lepiej zrozumieć kraj swoich przodków\, jego klimat i tradycje. Dzięki temu mogą poczuć więź z Polską. \n\nRozwijanie wiedzy o przyrodzie:\nPolska zima jest specyficzna i różni się od zim w wielu innych krajach. Dzięki lekcjom na ten temat dzieci uczą się o cyklach przyrody\, właściwościach śniegu i lodu oraz adaptacjach zwierząt do życia w chłodnych warunkach.\nNauka przez doświadczenie:\nEksperymenty ze śniegiem i lodem pozwalają dzieciom na praktyczne poznanie zjawisk związanych z zimą. Uczą się one obserwacji\, wnioskowania i myślenia naukowego\, co jest kluczowe dla ich ogólnego rozwoju edukacyjnego.\nRozwijanie kreatywności:\nWarsztaty plastyczne\, tworzenie prac plastycznych czy budowanie igloo z klocków lodu rozwijają zdolności manualne dzieci i stymulują ich wyobraźnię.\nRozwijanie umiejętności językowych:\nUtrwalanie i rozwijanie umiejętności językowych.\n\n  \n\n\n\n\n\n\n\n\n\n\n\n 
URL:https://polskaszkola.uk/event/lekcje-o-polskiej-zimie/
LOCATION:Polska Szkoła Ravenscourt Park\, Latymer Upper School\, King Street\, London\, W6 9LR\, United Kingdom
ATTACH;FMTTYPE=image/png:https://polskaszkola.uk/wp-content/uploads/2023/08/polska-zima.png
ORGANIZER;CN="Daria Wilkinson":MAILTO:info@polskaszkola.uk
END:VEVENT
BEGIN:VEVENT
DTSTART;VALUE=DATE:20231216
DTEND;VALUE=DATE:20231217
DTSTAMP:20260423T110258
CREATED:20230815T144615Z
LAST-MODIFIED:20230916T062815Z
UID:10000014-1702684800-1702771199@polskaszkola.uk
SUMMARY:Jasełka
DESCRIPTION:Jasełka to jedna z najstarszych i najbardziej uroczych tradycji w Polsce\, głęboko zakorzeniona w kulturze i duchowości narodu. Organizacja jasełek w polonijnym środowisku niesie ze sobą wiele korzyści i wartości\, które wpływają na całą społeczność szkolną: \n\nEdukacja kulturalna i tradycyjna: Organizując jasełka\, szkoła wprowadza uczniów w świat polskiej tradycji i kultury. Pozwala im zrozumieć znaczenie i bogactwo obchodów bożonarodzeniowych w Polsce.\nPromocja wartości: Historia narodzin Jezusa Chrystusa niesie ze sobą uniwersalne wartości\, takie jak miłość\, współczucie\, ofiarność i nadzieja. Jasełka uczą akceptacji\, solidarności i wzajemnego wsparcia.\nRozwój umiejętności uczniów: Udział w jasełkach pozwala uczniom rozwijać różne umiejętności – od aktorstwa\, przez śpiew\, aż po zdolności plastyczne przy tworzeniu scenografii czy kostiumów.\nIntegracja społeczności szkolnej: Jasełka są doskonałą okazją do integracji uczniów różnych klas\, nauczycieli oraz rodziców. Wspólne przygotowania do przedstawienia sprzyjają budowaniu więzi i poczucia przynależności do szkolnej społeczności.\nBudowanie poczucia wspólnoty: Wspólne świętowanie i przedstawienie bożonarodzeniowe pomagają w kształtowaniu poczucia wspólnoty\, wzmacniając tożsamość grupy oraz poczucie przynależności do niej.\nWzmocnienie relacji szkoła-rodzice: Organizacja jasełek to także okazja do wzmocnienia współpracy i komunikacji między szkołą a rodzicami. Uczestnictwo rodziców w przygotowaniach i samo przedstawienie pomaga budować mosty i zacieśniać relacje.\nTworzenie wspomnień: Jasełka są wydarzeniem\, które na długo zostaje w pamięci uczniów. To nie tylko lekcja\, ale również niezapomniane chwile\, które wpływają na kształtowanie się ich tożsamości.\n\nOrganizując jasełka\, szkoła nie tylko przekazuje wiedzę i tradycje\, ale również tworzy środowisko\, w którym uczniowie mogą rozwijać się w wielu aspektach – od umiejętności interpersonalnych\, przez artystyczne\, aż po duchowe. To inwestycja w ich wszechstronny rozwój oraz budowanie silnej i zintegrowanej społeczności szkolnej.
URL:https://polskaszkola.uk/event/jaselka/
LOCATION:Polska Szkoła Ravenscourt Park\, Latymer Upper School\, King Street\, London\, W6 9LR\, United Kingdom
ATTACH;FMTTYPE=image/jpeg:https://polskaszkola.uk/wp-content/uploads/2023/08/9-16.12.2023-Jaselka-copy.jpg
ORGANIZER;CN="Daria Wilkinson":MAILTO:info@polskaszkola.uk
END:VEVENT
BEGIN:VEVENT
DTSTART;TZID=Europe/London:20231209T100000
DTEND;TZID=Europe/London:20231209T110000
DTSTAMP:20260423T110258
CREATED:20230815T143947Z
LAST-MODIFIED:20230916T071804Z
UID:10000013-1702116000-1702119600@polskaszkola.uk
SUMMARY:Warsztaty świąteczne
DESCRIPTION:Warsztaty plastyczne poświęcone tradycji Mikołajek \n  \nWraz z nadejściem grudnia\, atmosfera pełna magii i oczekiwania na zbliżające się Święta Bożego Narodzenia opanowuje serca wielu z nas. Aby wprowadzić naszych uczniów w ten wyjątkowy klimat oraz przybliżyć im tradycje świąteczne\, nasza szkoła postanowiła zorganizować warsztaty plastyczne dedykowane Mikołajkom oraz Bożemu Narodzeniu.
URL:https://polskaszkola.uk/event/warsztaty-swiateczne/
ATTACH;FMTTYPE=image/jpeg:https://polskaszkola.uk/wp-content/uploads/2023/08/IMG_0100.jpg
END:VEVENT
BEGIN:VEVENT
DTSTART;VALUE=DATE:20231209
DTEND;VALUE=DATE:20231210
DTSTAMP:20260423T110258
CREATED:20230815T143719Z
LAST-MODIFIED:20230815T143719Z
UID:10000012-1702080000-1702166399@polskaszkola.uk
SUMMARY:Mikołajki
DESCRIPTION:Mikołajki
URL:https://polskaszkola.uk/event/mikolajki/
LOCATION:Polska Szkoła Ravenscourt Park\, Latymer Upper School\, King Street\, London\, W6 9LR\, United Kingdom
ATTACH;FMTTYPE=image/jpeg:https://polskaszkola.uk/wp-content/uploads/2023/08/8-09.12.2023-Mikolajki-warsztaty-swiateczne-copy.jpg
ORGANIZER;CN="Daria Wilkinson":MAILTO:info@polskaszkola.uk
END:VEVENT
BEGIN:VEVENT
DTSTART;TZID=Europe/London:20231111T100000
DTEND;TZID=Europe/London:20231111T110000
DTSTAMP:20260423T110258
CREATED:20230815T143439Z
LAST-MODIFIED:20230916T070509Z
UID:10000011-1699696800-1699700400@polskaszkola.uk
SUMMARY:Warsztaty historyczne
DESCRIPTION:11 listopada to data wyjątkowo ważna dla każdego Polaka. W tym dniu przypominamy sobie o heroicznej walce naszych przodków o wolność i niepodległość Polski. Chociaż jesteśmy daleko od Ojczyzny\, chcemy\, by nasi uczniowie byli świadomi tego\, co wydarzyło się ponad sto lat temu i jak ważne jest to dla naszej tożsamości narodowej. Dlatego właśnie postanowiliśmy uczcić ten dzień w wyjątkowy sposób\, organizując szereg atrakcyjnych i edukacyjnych aktywności.  \nWarsztaty Historyczne: Uczniowie podzielą się na grupy i będą mieli okazję uczestniczyć w warsztatach\, podczas których poznają kluczowe momenty\, postacie i miejsca związane z odzyskaniem przez Polskę niepodległości. Specjalne materiały dydaktyczne oraz multimedialne prezentacje pomogą w przystępny sposób przekazać tę ważną wiedzę. \nGry Planszowe o Historii Polski:  aktywne formy nauki\, przygotowaliśmy specjalne gry planszowe dotyczące historii Polski.  \nEscape Room \,\,Śladami Niepodległości” : Uczniowie zostają przeniesieni w czasie do roku 1918. Muszą odnaleźć się w wirze historycznych wydarzeń\, odgrywając role kluczowych postaci tamtych czasów. Celem gry jest odnalezienie \,\,Dokumentu Niepodległości”\, który został ukryty przez jednego z bohaterów narodowych\, aby nie wpadł w ręce wroga. \n 
URL:https://polskaszkola.uk/event/warsztaty-historyczne/
LOCATION:Polska Szkoła Ravenscourt Park\, Latymer Upper School\, King Street\, London\, W6 9LR\, United Kingdom
ATTACH;FMTTYPE=image/jpeg:https://polskaszkola.uk/wp-content/uploads/2023/08/IMG_0099.jpg
ORGANIZER;CN="Daria Wilkinson":MAILTO:info@polskaszkola.uk
END:VEVENT
END:VCALENDAR