BEGIN:VCALENDAR
VERSION:2.0
PRODID:-//Kidscool Site - ECPv6.15.12.2//NONSGML v1.0//EN
CALSCALE:GREGORIAN
METHOD:PUBLISH
X-WR-CALNAME:Kidscool Site
X-ORIGINAL-URL:https://polskaszkola.uk
X-WR-CALDESC:Wydarzenia dla Kidscool Site
REFRESH-INTERVAL;VALUE=DURATION:PT1H
X-Robots-Tag:noindex
X-PUBLISHED-TTL:PT1H
BEGIN:VTIMEZONE
TZID:Europe/London
BEGIN:DAYLIGHT
TZOFFSETFROM:+0000
TZOFFSETTO:+0100
TZNAME:BST
DTSTART:20230326T010000
END:DAYLIGHT
BEGIN:STANDARD
TZOFFSETFROM:+0100
TZOFFSETTO:+0000
TZNAME:GMT
DTSTART:20231029T010000
END:STANDARD
BEGIN:DAYLIGHT
TZOFFSETFROM:+0000
TZOFFSETTO:+0100
TZNAME:BST
DTSTART:20240331T010000
END:DAYLIGHT
BEGIN:STANDARD
TZOFFSETFROM:+0100
TZOFFSETTO:+0000
TZNAME:GMT
DTSTART:20241027T010000
END:STANDARD
BEGIN:DAYLIGHT
TZOFFSETFROM:+0000
TZOFFSETTO:+0100
TZNAME:BST
DTSTART:20250330T010000
END:DAYLIGHT
BEGIN:STANDARD
TZOFFSETFROM:+0100
TZOFFSETTO:+0000
TZNAME:GMT
DTSTART:20251026T010000
END:STANDARD
BEGIN:DAYLIGHT
TZOFFSETFROM:+0000
TZOFFSETTO:+0100
TZNAME:BST
DTSTART:20260329T010000
END:DAYLIGHT
BEGIN:STANDARD
TZOFFSETFROM:+0100
TZOFFSETTO:+0000
TZNAME:GMT
DTSTART:20261025T010000
END:STANDARD
BEGIN:DAYLIGHT
TZOFFSETFROM:+0000
TZOFFSETTO:+0100
TZNAME:BST
DTSTART:20270328T010000
END:DAYLIGHT
BEGIN:STANDARD
TZOFFSETFROM:+0100
TZOFFSETTO:+0000
TZNAME:GMT
DTSTART:20271031T010000
END:STANDARD
END:VTIMEZONE
BEGIN:VEVENT
DTSTART;TZID=Europe/London:20260321T100000
DTEND;TZID=Europe/London:20260321T150000
DTSTAMP:20260422T032417
CREATED:20240809T165659Z
LAST-MODIFIED:20260206T162909Z
UID:10000054-1774087200-1774105200@polskaszkola.uk
SUMMARY:Uroczystość nadania imienia Polskiej Szkole w Ravenscourt Park
DESCRIPTION:Uroczystość nadania imienia Polskiej Szkole w Ravenscourt Park\nUroczystość poświęcenia sztandaru oraz nadania szkole imienia gen. broni Stanisława Maczka w Londynie\, zaplanowaną na dzień 21 marca 2026 roku w Londynie; program wydarzenia obejmuje Mszę Świętą z poświęceniem sztandaru\, przemarsz uczestników oraz część oficjalną w siedzibie szkoły.
URL:https://polskaszkola.uk/event/dzien-ziemi-2/
CATEGORIES:Święta i uroczystości,Wydarzenia szkolne,Wyjścia i wycieczki,Zajęcia lekcyjne
ATTACH;FMTTYPE=image/jpeg:https://polskaszkola.uk/wp-content/uploads/2024/08/images.jpeg
END:VEVENT
BEGIN:VEVENT
DTSTART;TZID=Europe/London:20260131T090000
DTEND;TZID=Europe/London:20260131T130000
DTSTAMP:20260422T032417
CREATED:20240809T171305Z
LAST-MODIFIED:20250720T235412Z
UID:10000058-1769850000-1769864400@polskaszkola.uk
SUMMARY:Bal karnawałowy
DESCRIPTION:Bal karnawałowy – radość i zabawa dla polonijnych dzieci \nBal karnawałowy organizowany w polskiej szkole dla najmłodszych uczniów będzie radosnym i pełnym zabawy wydarzeniem. W kolorowo udekorowanej sali szkolnej dzieci przebrane w barwne\, pomysłowe stroje karnawałowe będą mogły uczestniczyć w licznych grach i konkursach z nagrodami oraz wspólnie bawić się przy polskiej muzyce i tańcach. \nCelem balu karnawałowego jest nie tylko dostarczenie uczniom wielu wrażeń i uśmiechu\, ale także edukacja poprzez zabawę. Dzieci wezmą udział w pląsach i konkursach sprawnościowych oraz wspólnie zaśpiewają tradycyjne polskie piosenki. To wszystko posłuży lepszemu zapamiętaniu polskich słówek i zwrotów\, a także wzmocni poczucie integracji z polską kulturą. \nKarnawałowe bale od lat organizowane są w polskich szkołach na całym świecie\, kontynuując piękną\, wieloletnią tradycję. Uroczystość pełna śmiechu\, tańca i zabawy przeplatana będzie także elementami edukacyjnymi\, dzięki którym uczniowie poznają polskie obyczaje oraz rozwijają swoje umiejętności językowe.
URL:https://polskaszkola.uk/event/bal-karnawalowy-2/
CATEGORIES:Zajęcia lekcyjne
ATTACH;FMTTYPE=image/png:https://polskaszkola.uk/wp-content/uploads/2024/01/Polska-szkola-Ravenscourt-Park-15.png
END:VEVENT
BEGIN:VEVENT
DTSTART;TZID=Europe/London:20260124T093000
DTEND;TZID=Europe/London:20260124T130000
DTSTAMP:20260422T032417
CREATED:20240809T164951Z
LAST-MODIFIED:20260107T103731Z
UID:10000053-1769247000-1769259600@polskaszkola.uk
SUMMARY:Dzień Babci i Dziadka
DESCRIPTION:Dzień Babci i Dziadka\, obchodzony odpowiednio 21 i 22 stycznia\, to wyjątkowa okazja\, by oddać hołd najstarszemu pokoleniu naszych rodzin. Dla wielu z nas\, Babcie i Dziadkowie są symbolem mądrości\, tradycji i niezłomnej miłości rodziny. Ale dlaczego to święto ma tak duże znaczenie w polskich szkołach na obczyźnie? \n\nPodtrzymanie tradycji: Jednym z głównych celów istnienia naszej szkoły jest podtrzymywanie polskiej kultury\, języka i tradycji. Świętowanie Dnia Babci i Dziadka jest częścią tej misji. Uczy dzieci szacunku do starszego pokolenia i przypomina o wartościach\, jakie niesie za sobą polska kultura.\nMost między pokoleniami: Dla wielu polonijnych rodzin\, dziadkowie często pozostają w Polsce. Świętowanie ich dnia w szkole staje się okazją do nawiązania więzi\, nierzadko przekraczającej bariery geograficzne\, poprzez przygotowywanie laurki\, piosenki czy prezentu. \nWspomnienia i historie: Dzień Babci i Dziadka to doskonała okazja\, by przypomnieć uczniom o historiach rodzinnych\, o tym skąd pochodzimy\, jakie tradycje\, zwyczaje i wartości są nam bliskie. To także moment\, by przekazać młodszemu pokoleniu historie z życia ich dziadków\, które stanowią ważny element dziedzictwa rodzinnej historii.\nWzmocnienie więzi społecznych: Świętowanie tego dnia w polskiej szkole na obczyźnie pozwala uczniom na zrozumienie\, że mimo odległości geograficznej\, są częścią większej społeczności\, która dzieli wspólne wartości i tradycje. Pokazuje\, że mimo różnic kulturowych\, pewne wartości są uniwersalne.\nEdukacja emocjonalna: Uczczenie Dnia Babci i Dziadka uczy dzieci empatii\, wdzięczności oraz szacunku do starszych. Wspólne świętowanie\, przygotowywanie upominków czy występów sprzyja także integracji i budowaniu więzi między uczniami.\n\nPodsumowując\, świętowanie Dnia Babci i Dziadka w polskiej szkole n to nie tylko okazja do podziękowania naszym ukochanym babciom i dziadkom. To również czas refleksji nad naszym pochodzeniem\, tradycją i wartościami\, które chcemy przekazać kolejnym pokoleniom Polaków\, niezależnie od miejsca\, w którym się znajdują. \n 
URL:https://polskaszkola.uk/event/dzien-babci-i-dziadka-2/
CATEGORIES:Spotkania rodziców,Święta i uroczystości,Zajęcia lekcyjne
ATTACH;FMTTYPE=image/jpeg:https://polskaszkola.uk/wp-content/uploads/2023/08/11-20.01.2024-Dzien-Babci-i-Dziadka-copy.jpg
END:VEVENT
BEGIN:VEVENT
DTSTART;TZID=Europe/London:20251122T113000
DTEND;TZID=Europe/London:20251122T130000
DTSTAMP:20260422T032417
CREATED:20230815T143844Z
LAST-MODIFIED:20251121T113516Z
UID:10000007-1763811000-1763816400@polskaszkola.uk
SUMMARY:Pasowanie na ucznia polonijnego klas 1
DESCRIPTION:
URL:https://polskaszkola.uk/event/pasowanie-na-ucznia-polonijnego-klas-1/
LOCATION:Polska Szkoła Ravenscourt Park\, Latymer Upper School\, King Street\, London\, W6 9LR\, United Kingdom
CATEGORIES:Projekty i konkursy,Spotkania rodziców,Święta i uroczystości,Wydarzenia szkolne,Zajęcia lekcyjne
ATTACH;FMTTYPE=image/jpeg:https://polskaszkola.uk/wp-content/uploads/2023/08/student-academic-college-education-graduate-university-woman-young-graduation-person-happy-kids-scaled.jpg
ORGANIZER;CN="Daria Wilkinson":MAILTO:info@polskaszkola.uk
END:VEVENT
BEGIN:VEVENT
DTSTART;TZID=Europe/London:20251108T093000
DTEND;TZID=Europe/London:20251108T130000
DTSTAMP:20260422T032417
CREATED:20240809T160156Z
LAST-MODIFIED:20250720T235943Z
UID:10000044-1762594200-1762606800@polskaszkola.uk
SUMMARY:Święto Niepodległości Polski
DESCRIPTION:Święto Niepodległości Polski\, obchodzony 11 listopada\, to jedno z najważniejszych świąt narodowych\, upamiętniające odzyskanie przez Polskę suwerenności po 123 latach zaborów. W Polskiej Szkole Sobotniej w Ravenscourt Park to wydarzenie stanowi szczególną okazję do przybliżenia uczniom bogatej historii Polski\, jej dziedzictwa oraz kultury. Obchody Dnia Niepodległości w naszej szkole są nie tylko momentem refleksji\, ale także świetną okazją do kreatywnego zaangażowania dzieci w proces edukacyjny poprzez różnorodne działania i projekty. \nZnaczenie i Wpływ Obchodów \nObchody Dnia Niepodległości w Polskiej Szkole Sobotniej w Ravenscourt Park mają ogromne znaczenie edukacyjne i kulturowe\, nie tylko dla uczniów\, ale i dla całej polonijnej społeczności. Przez połączenie nauki z zabawą\, szkoła stwarza środowisko\, w którym młodzi ludzie mogą nauczyć się cenić swoje dziedzictwo i historię. To także czas\, kiedy rodzice i lokalna społeczność mogą zaangażować się w działalność szkoły\, co wzmacnia więzi i poczucie wspólnoty. \nDzięki tym obchodom\, Polska Szkola Sobotnia nie tylko edukuje\, ale także inspiruje młode pokolenia do pielęgnowania pamięci o historii i kulturze Polski\, a także do kształtowania własnej\, unikalnej tożsamości kulturalnej na obczyźnie.
URL:https://polskaszkola.uk/event/zajecia-lekcyjne-w-polskiej-szkole-w-ravenscourt-park/
CATEGORIES:Święta i uroczystości,Wydarzenia szkolne,Zajęcia lekcyjne
ATTACH;FMTTYPE=image/jpeg:https://polskaszkola.uk/wp-content/uploads/2024/01/11-listopada.jpeg
END:VEVENT
BEGIN:VEVENT
DTSTART;TZID=Europe/London:20251027T090000
DTEND;TZID=Europe/London:20251031T130000
DTSTAMP:20260422T032417
CREATED:20240809T155206Z
LAST-MODIFIED:20250721T001206Z
UID:10000041-1761555600-1761915600@polskaszkola.uk
SUMMARY:Half-term z językiem polskim
DESCRIPTION:Half-term z językiem polski! \nSerdecznie zapraszamy wszystkie dzieci do uczestnictwa w naszym wyjątkowym programie half-term\, który łączy naukę języka polskiego z zabawą i innowacją. Nasz program to doskonała okazja\, aby poprzez zabawę\, kreatywność i interakcję rozwijać umiejętności językowe w międzynarodowym środowisku. \n\n\n\nPodczas ferii dzieci będą miały okazję brać udział w różnorodnych zajęciach\, które nie tylko pobudzają wyobraźnię\, ale także pomagają w rozwoju umiejętności językowych. W programie przewidziane są zajęcia edukacyjne\, taneczne\, plastyczne i artystyczne\, które są idealnie dostosowane do potrzeb młodych uczestników.\n\n\nNie przegapcie tej wyjątkowej okazji do rozwijania pasji i talentów Waszych dzieci w przyjaznej i stymulującej atmosferze. Liczba miejsc jest ograniczona\, więc zachęcamy do szybkiego zgłaszania uczestnictwa.\nProgram ferii wspiera Hammersmith United Charities. Thank you.\n\n\n\n\nNasze ferie odbędą się w dniach od 27 października do 31 października 2025 w Polskim Ośrodku Kulturalnym Polish Social & Cultural Association. Każdy dzień to nowa porcja wiedzy\, zabawy i emocji! W programie m.in.:\n\n\n– Warsztaty plastyczne: tworzenie plakatów\, flag\, kotylionów i innych prac związanych z polskimi świętami\n– Ciekawe rozmowy o wymarzonych zawodach i rysowanie postaci z nimi związanych\, spotkania z inspirującymi osobami\n– Poznawanie historii polskiej i wspólne prace grupowe\n– Gra terenowa z zagadkami i zadaniami\n– Tworzenie ozdób\, takich jak kwiaty z bibuły i mozaiki z symbolami pokoju\n– Wspólne śpiewanie tradycyjnych piosenek\n– Nauka polskich rękodzieł\, w tym wycinanek i kolorowanie\n\n\nWszystko to pod okiem wykwalifikowanej i pełnej pasji kadry pedagogicznej\, która zadba o bezpieczeństwo\, dobrą zabawę i niezapomniane wspomnienia Waszych pociech!\n\n\n\n\nKontakt: Masz pytania?\nSkontaktuj się z nami: info@polskaszkola.uk\nZ niecierpliwością czekamy na Wasze zgłoszenia.\n\n\nZ poważaniem\,\nDaria Wilkinson\nKoordynatorka programu \,\,Ferie z językiem polskim”
URL:https://polskaszkola.uk/event/half-term-z-jezykiem-polskim-2/
CATEGORIES:Ogłoszenia i komunikaty,Terminy zapisów i rekrutacji,Wydarzenia szkolne,Zajęcia dodatkowe
ATTACH;FMTTYPE=image/png:https://polskaszkola.uk/wp-content/uploads/2024/08/Strategies-Grow-on-Social-Networks-Instagram-Post-Carousel-.png
END:VEVENT
BEGIN:VEVENT
DTSTART;TZID=Europe/London:20250927T093000
DTEND;TZID=Europe/London:20250927T130000
DTSTAMP:20260422T032417
CREATED:20240809T153115Z
LAST-MODIFIED:20250721T000425Z
UID:10000038-1758965400-1758978000@polskaszkola.uk
SUMMARY:Zajęcia integracyjne
DESCRIPTION:Zajęcia integracyjne\, odgrywają kluczową rolę w kształtowaniu tożsamości\, umacnianiu więzi społecznych i kulturalnych oraz rozwijaniu umiejętności językowych wśród dzieci polonijnych. Istnieje kilka kluczowych powodów\, dla których takie zajęcia są tak ważne: \n1. Budowanie tożsamości:\nDla dzieci urodzonych lub wychowujących się za granicą\, pojęcie tożsamości narodowej może być bardziej skomplikowane. Zajęcia integracyjne pomagają im zrozumieć i docenić swoje korzenie\, kulturę i tradycję. \n2. Umacnianie więzi społecznych:\nZajęcia integracyjne pomagają dzieciom nawiązać relacje z rówieśnikami o podobnych doświadczeniach i tle kulturowym. Tworzą środowisko\, w którym mogą się czuć akceptowane i zrozumiane. \n3. Rozwijanie umiejętności językowych:\nPoprzez różnorodne aktywności\, takie jak gry\, konkursy\, projekty grupowe czy warsztaty językowe\, uczniowie praktykują język polski w naturalnym kontekście\, co przyspiesza jego naukę. \n4. Rozwój kompetencji międzykulturowych:\nZajęcia integracyjne uczą dzieci\, jak funkcjonować w różnych środowiskach kulturowych\, co jest niezwykle cenną umiejętnością w dzisiejszym globalnym świecie. \nPodsumowując\, zajęcia integracyjne w naszej szkole nie tylko umacniają więzi społeczne i kulturalne\, ale także rozwijają umiejętności\, które są niezbędne dla sukcesu w życiu osobistym i zawodowym uczniów w przyszłości. Oferują one nieocenioną wartość dla młodych ludzi w poszukiwaniu swojego miejsca w świecie.
URL:https://polskaszkola.uk/event/zajecia-integracyjne-2/
ATTACH;FMTTYPE=image/jpeg:https://polskaszkola.uk/wp-content/uploads/2023/08/2.-30.09.2023-Zajecia-integracyjne-copy.jpg
END:VEVENT
BEGIN:VEVENT
DTSTART;TZID=Europe/London:20241207T090000
DTEND;TZID=Europe/London:20241207T130000
DTSTAMP:20260422T032417
CREATED:20240809T162019Z
LAST-MODIFIED:20240809T162019Z
UID:10000050-1733562000-1733576400@polskaszkola.uk
SUMMARY:Mikołajki
DESCRIPTION:Mikołajki w Polskiej Szkole Ravenscourt Park \nMikołajki to jedno z najbardziej oczekiwanych świąt przez dzieci w Polsce\, a w polskiej szkole sobotniej jest to okazja do świętowania polskich tradycji w radosnej\, świątecznej atmosferze. W pierwszą sobotę grudnia\, kiedy w szkołach odbywa się obchód Mikołajek\, cała społeczność szkolna zanurza się w magii tego dnia.
URL:https://polskaszkola.uk/event/mikolajki-2/
CATEGORIES:Projekty i konkursy,Święta i uroczystości,Zajęcia lekcyjne,Zajęcia specjalne
ATTACH;FMTTYPE=image/jpeg:https://polskaszkola.uk/wp-content/uploads/2023/08/8-09.12.2023-Mikolajki-warsztaty-swiateczne-copy.jpg
END:VEVENT
BEGIN:VEVENT
DTSTART;TZID=Europe/London:20241123T093000
DTEND;TZID=Europe/London:20241123T130000
DTSTAMP:20260422T032417
CREATED:20240809T160552Z
LAST-MODIFIED:20240810T060820Z
UID:10000047-1732354200-1732366800@polskaszkola.uk
SUMMARY:Zajęcia lekcyjne w Polskiej Szkole w Ravenscourt Park
DESCRIPTION:Zajęcia lekcyjne w Polskiej Szkole w Ravenscourt Park \nSerdecznie zapraszamy wszystkie dzieci i młodzież polskiego pochodzenia do Polskiej Szkoły Sobotniej w Ravenscourt Park w Londynie. Placówka mieści się naprzeciwko Polskiego Ośrodka Społeczno-Kulturalnego (POSK) przy 238-246 King Street. \nZajęcia szkolne odbywają się w soboty w godzinach 9:30-13:00. Uczniowie podzieleni są na klasy od przedszkola po GCSE. Program nauczania obejmuje język polski\, historię\, geografię Polski\, wiedzę o kulturze i czytelnictwo. \nKadra pedagogiczna dba o rozwój kompetencji językowych dzieci dwujęzycznych\, pielęgnuje polską tradycję i kulturę\, rozwija talenty artystyczne. Szkoła organizuje też wydarzenia okolicznościowe i wycieczki w polskie rejony Londynu. \nWszystkie informacje o rekrutacji i ofercie zajęć znajdują się na stronie internetowej www.polskaszkola.uk\nZapraszamy!
URL:https://polskaszkola.uk/event/zajecia-lekcyjne-w-polskiej-szkole-w-ravenscourt-park-3/
CATEGORIES:Zajęcia lekcyjne
ATTACH;FMTTYPE=image/jpeg:https://polskaszkola.uk/wp-content/uploads/2024/01/Polska-szkola-Ravenscourt-Park-11.jpg
END:VEVENT
END:VCALENDAR