BEGIN:VCALENDAR
VERSION:2.0
PRODID:-//Kidscool Site - ECPv6.15.12.2//NONSGML v1.0//EN
CALSCALE:GREGORIAN
METHOD:PUBLISH
X-ORIGINAL-URL:https://polskaszkola.uk
X-WR-CALDESC:Wydarzenia dla Kidscool Site
REFRESH-INTERVAL;VALUE=DURATION:PT1H
X-Robots-Tag:noindex
X-PUBLISHED-TTL:PT1H
BEGIN:VTIMEZONE
TZID:Europe/London
BEGIN:DAYLIGHT
TZOFFSETFROM:+0000
TZOFFSETTO:+0100
TZNAME:BST
DTSTART:20230326T010000
END:DAYLIGHT
BEGIN:STANDARD
TZOFFSETFROM:+0100
TZOFFSETTO:+0000
TZNAME:GMT
DTSTART:20231029T010000
END:STANDARD
BEGIN:DAYLIGHT
TZOFFSETFROM:+0000
TZOFFSETTO:+0100
TZNAME:BST
DTSTART:20240331T010000
END:DAYLIGHT
BEGIN:STANDARD
TZOFFSETFROM:+0100
TZOFFSETTO:+0000
TZNAME:GMT
DTSTART:20241027T010000
END:STANDARD
BEGIN:DAYLIGHT
TZOFFSETFROM:+0000
TZOFFSETTO:+0100
TZNAME:BST
DTSTART:20250330T010000
END:DAYLIGHT
BEGIN:STANDARD
TZOFFSETFROM:+0100
TZOFFSETTO:+0000
TZNAME:GMT
DTSTART:20251026T010000
END:STANDARD
BEGIN:DAYLIGHT
TZOFFSETFROM:+0000
TZOFFSETTO:+0100
TZNAME:BST
DTSTART:20260329T010000
END:DAYLIGHT
BEGIN:STANDARD
TZOFFSETFROM:+0100
TZOFFSETTO:+0000
TZNAME:GMT
DTSTART:20261025T010000
END:STANDARD
BEGIN:DAYLIGHT
TZOFFSETFROM:+0000
TZOFFSETTO:+0100
TZNAME:BST
DTSTART:20270328T010000
END:DAYLIGHT
BEGIN:STANDARD
TZOFFSETFROM:+0100
TZOFFSETTO:+0000
TZNAME:GMT
DTSTART:20271031T010000
END:STANDARD
END:VTIMEZONE
BEGIN:VEVENT
DTSTART;TZID=Europe/London:20260321T100000
DTEND;TZID=Europe/London:20260321T150000
DTSTAMP:20260421T215001
CREATED:20240809T165659Z
LAST-MODIFIED:20260206T162909Z
UID:10000054-1774087200-1774105200@polskaszkola.uk
SUMMARY:Uroczystość nadania imienia Polskiej Szkole w Ravenscourt Park
DESCRIPTION:Uroczystość nadania imienia Polskiej Szkole w Ravenscourt Park\nUroczystość poświęcenia sztandaru oraz nadania szkole imienia gen. broni Stanisława Maczka w Londynie\, zaplanowaną na dzień 21 marca 2026 roku w Londynie; program wydarzenia obejmuje Mszę Świętą z poświęceniem sztandaru\, przemarsz uczestników oraz część oficjalną w siedzibie szkoły.
URL:https://polskaszkola.uk/event/dzien-ziemi-2/
CATEGORIES:Święta i uroczystości,Wydarzenia szkolne,Wyjścia i wycieczki,Zajęcia lekcyjne
ATTACH;FMTTYPE=image/jpeg:https://polskaszkola.uk/wp-content/uploads/2024/08/images.jpeg
END:VEVENT
BEGIN:VEVENT
DTSTART;TZID=Europe/London:20260214T093000
DTEND;TZID=Europe/London:20260214T130000
DTSTAMP:20260421T215001
CREATED:20240809T180046Z
LAST-MODIFIED:20250720T235503Z
UID:10000065-1771061400-1771074000@polskaszkola.uk
SUMMARY:Dzień Bezpiecznego Internetu
DESCRIPTION:Dzień Bezpiecznego Internetu
URL:https://polskaszkola.uk/event/dzien-bezpiecznego-internetu/
CATEGORIES:Projekty i konkursy,Zajęcia lekcyjne,Zajęcia specjalne
ATTACH;FMTTYPE=image/jpeg:https://polskaszkola.uk/wp-content/uploads/2024/08/Polska-szkola-Ravenscourt-Park-28.jpg
END:VEVENT
BEGIN:VEVENT
DTSTART;TZID=Europe/London:20260124T093000
DTEND;TZID=Europe/London:20260124T130000
DTSTAMP:20260421T215001
CREATED:20240809T164951Z
LAST-MODIFIED:20260107T103731Z
UID:10000053-1769247000-1769259600@polskaszkola.uk
SUMMARY:Dzień Babci i Dziadka
DESCRIPTION:Dzień Babci i Dziadka\, obchodzony odpowiednio 21 i 22 stycznia\, to wyjątkowa okazja\, by oddać hołd najstarszemu pokoleniu naszych rodzin. Dla wielu z nas\, Babcie i Dziadkowie są symbolem mądrości\, tradycji i niezłomnej miłości rodziny. Ale dlaczego to święto ma tak duże znaczenie w polskich szkołach na obczyźnie? \n\nPodtrzymanie tradycji: Jednym z głównych celów istnienia naszej szkoły jest podtrzymywanie polskiej kultury\, języka i tradycji. Świętowanie Dnia Babci i Dziadka jest częścią tej misji. Uczy dzieci szacunku do starszego pokolenia i przypomina o wartościach\, jakie niesie za sobą polska kultura.\nMost między pokoleniami: Dla wielu polonijnych rodzin\, dziadkowie często pozostają w Polsce. Świętowanie ich dnia w szkole staje się okazją do nawiązania więzi\, nierzadko przekraczającej bariery geograficzne\, poprzez przygotowywanie laurki\, piosenki czy prezentu. \nWspomnienia i historie: Dzień Babci i Dziadka to doskonała okazja\, by przypomnieć uczniom o historiach rodzinnych\, o tym skąd pochodzimy\, jakie tradycje\, zwyczaje i wartości są nam bliskie. To także moment\, by przekazać młodszemu pokoleniu historie z życia ich dziadków\, które stanowią ważny element dziedzictwa rodzinnej historii.\nWzmocnienie więzi społecznych: Świętowanie tego dnia w polskiej szkole na obczyźnie pozwala uczniom na zrozumienie\, że mimo odległości geograficznej\, są częścią większej społeczności\, która dzieli wspólne wartości i tradycje. Pokazuje\, że mimo różnic kulturowych\, pewne wartości są uniwersalne.\nEdukacja emocjonalna: Uczczenie Dnia Babci i Dziadka uczy dzieci empatii\, wdzięczności oraz szacunku do starszych. Wspólne świętowanie\, przygotowywanie upominków czy występów sprzyja także integracji i budowaniu więzi między uczniami.\n\nPodsumowując\, świętowanie Dnia Babci i Dziadka w polskiej szkole n to nie tylko okazja do podziękowania naszym ukochanym babciom i dziadkom. To również czas refleksji nad naszym pochodzeniem\, tradycją i wartościami\, które chcemy przekazać kolejnym pokoleniom Polaków\, niezależnie od miejsca\, w którym się znajdują. \n 
URL:https://polskaszkola.uk/event/dzien-babci-i-dziadka-2/
CATEGORIES:Spotkania rodziców,Święta i uroczystości,Zajęcia lekcyjne
ATTACH;FMTTYPE=image/jpeg:https://polskaszkola.uk/wp-content/uploads/2023/08/11-20.01.2024-Dzien-Babci-i-Dziadka-copy.jpg
END:VEVENT
BEGIN:VEVENT
DTSTART;TZID=Europe/London:20251213T090000
DTEND;TZID=Europe/London:20251213T130000
DTSTAMP:20260421T215001
CREATED:20240809T162420Z
LAST-MODIFIED:20250720T235830Z
UID:10000051-1765616400-1765630800@polskaszkola.uk
SUMMARY:Warsztaty Świąteczne
DESCRIPTION:Warsztaty plastyczne poświęcone tradycji Świąt Bożego Narodzenia \nWraz z nadejściem grudnia\, atmosfera pełna magii i oczekiwania na zbliżające się Święta Bożego Narodzenia opanowuje serca wielu z nas. Aby wprowadzić naszych uczniów w ten wyjątkowy klimat oraz przybliżyć im tradycje świąteczne\, nasza szkoła postanowiła zorganizować warsztaty plastyczne dedykowane Mikołajkom oraz Bożemu Narodzeniu.
URL:https://polskaszkola.uk/event/warsztaty-swiateczne-2/
CATEGORIES:Święta i uroczystości,Święta Polskie,Wydarzenia szkolne,Zajęcia lekcyjne
ATTACH;FMTTYPE=image/jpeg:https://polskaszkola.uk/wp-content/uploads/2023/08/IMG_0100.jpg
END:VEVENT
BEGIN:VEVENT
DTSTART;TZID=Europe/London:20251122T113000
DTEND;TZID=Europe/London:20251122T130000
DTSTAMP:20260421T215001
CREATED:20230815T143844Z
LAST-MODIFIED:20251121T113516Z
UID:10000007-1763811000-1763816400@polskaszkola.uk
SUMMARY:Pasowanie na ucznia polonijnego klas 1
DESCRIPTION:
URL:https://polskaszkola.uk/event/pasowanie-na-ucznia-polonijnego-klas-1/
LOCATION:Polska Szkoła Ravenscourt Park\, Latymer Upper School\, King Street\, London\, W6 9LR\, United Kingdom
CATEGORIES:Projekty i konkursy,Spotkania rodziców,Święta i uroczystości,Wydarzenia szkolne,Zajęcia lekcyjne
ATTACH;FMTTYPE=image/jpeg:https://polskaszkola.uk/wp-content/uploads/2023/08/student-academic-college-education-graduate-university-woman-young-graduation-person-happy-kids-scaled.jpg
ORGANIZER;CN="Daria Wilkinson":MAILTO:info@polskaszkola.uk
END:VEVENT
BEGIN:VEVENT
DTSTART;TZID=Europe/London:20251025T093000
DTEND;TZID=Europe/London:20251025T130000
DTSTAMP:20260421T215001
CREATED:20240809T174447Z
LAST-MODIFIED:20250721T000929Z
UID:10000062-1761384600-1761397200@polskaszkola.uk
SUMMARY:Zajęcia lekcyjne w Polskiej Szkole w Ravenscourt Park
DESCRIPTION:Zajęcia lekcyjne w Polskiej Szkole w Ravenscourt Park \nSerdecznie zapraszamy wszystkie dzieci i młodzież polskiego pochodzenia do Polskiej Szkoły Sobotniej w Ravenscourt Park w Londynie. Placówka mieści się naprzeciwko Polskiego Ośrodka Społeczno-Kulturalnego (POSK) przy 238-246 King Street. \nZajęcia szkolne odbywają się w soboty w godzinach 9:30-13:00. Uczniowie podzieleni są na klasy od przedszkola po GCSE. Program nauczania obejmuje język polski\, historię\, geografię Polski\, wiedzę o kulturze i czytelnictwo. \nKadra pedagogiczna dba o rozwój kompetencji językowych dzieci dwujęzycznych\, pielęgnuje polską tradycję i kulturę\, rozwija talenty artystyczne. Szkoła organizuje też wydarzenia okolicznościowe i wycieczki w polskie rejony Londynu. \nWszystkie informacje o rekrutacji i ofercie zajęć znajdują się na stronie internetowej www.polskaszkola.uk\nZapraszamy!
URL:https://polskaszkola.uk/event/zajecia-lekcyjne-w-polskiej-szkole-w-ravenscourt-park-6/
CATEGORIES:Zajęcia lekcyjne
ATTACH;FMTTYPE=image/jpeg:https://polskaszkola.uk/wp-content/uploads/2024/01/Polska-szkola-Ravenscourt-Park-11.jpg
END:VEVENT
BEGIN:VEVENT
DTSTART;TZID=Europe/London:20251011T093000
DTEND;TZID=Europe/London:20251011T130000
DTSTAMP:20260421T215001
CREATED:20240809T153825Z
LAST-MODIFIED:20250721T000754Z
UID:10000039-1760175000-1760187600@polskaszkola.uk
SUMMARY:Dzień Edukacji Narodowej
DESCRIPTION:Nauczyciel polonijny – Misja bycia przewodnikiem po polskości \nBycie nauczycielem w szkole polonijnej to znacznie więcej niż profesja; to głęboko zakorzeniona misja. Nauczyciel polonijny to przewodnik\, który prowadzi młode umysły przez bogaty krajobraz polskiej kultury\, historii i języka. W każdym słowie i działaniu odzwierciedla pasję do przekazywania tradycji oraz kształtowania tożsamości\, która choć rozwija się daleko od Polski\, pozostaje niezmiennie polska. \nZa każdym razem\, gdy nauczyciel polonijny wprowadza uczniów w arkana polskiej literatury\, historii czy współczesności\, nie tylko edukuje\, ale też inspiruje i umacnia więzi z ojczyzną przodków. Przekazuje nie tylko wiedzę\, ale też uczucia – miłość do Polski\, dumę z jej osiągnięć i szacunek do jej dziedzictwa. \nW szkole polonijnej nauczyciel staje się więc nie tylko edukatorem\, ale przede wszystkim opiekunem polskości\, strażnikiem języka i kultury\, który zapewnia\, że mimo odległości\, polskie serca biją w rytmie wspólnej\, niezatartej tożsamości.
URL:https://polskaszkola.uk/event/dzien-edukacji-narodowej-2/
ATTACH;FMTTYPE=image/jpeg:https://polskaszkola.uk/wp-content/uploads/2024/01/dzien-nauczyciela.jpeg
END:VEVENT
BEGIN:VEVENT
DTSTART;TZID=Europe/London:20251004T093000
DTEND;TZID=Europe/London:20251004T130000
DTSTAMP:20260421T215001
CREATED:20250925T102600Z
LAST-MODIFIED:20251001T132820Z
UID:10000081-1759570200-1759582800@polskaszkola.uk
SUMMARY:Brak zajęć
DESCRIPTION:W tym dniu nie ma zajęć lekcyjnych.
URL:https://polskaszkola.uk/event/brak-zajec/
CATEGORIES:Dni wolne
ATTACH;FMTTYPE=image/png:https://polskaszkola.uk/wp-content/uploads/2025/09/Polska-szkola-Ravenscourt-Park-49.png
END:VEVENT
BEGIN:VEVENT
DTSTART;TZID=Europe/London:20250217T090000
DTEND;TZID=Europe/London:20250221T130000
DTSTAMP:20260421T215001
CREATED:20240809T155414Z
LAST-MODIFIED:20240809T173933Z
UID:10000042-1739782800-1740142800@polskaszkola.uk
SUMMARY:Half-term z językiem polskim!
DESCRIPTION:Half-term z językiem polski! \nSerdecznie zapraszamy wszystkie dzieci do uczestnictwa w naszym wyjątkowym programie half-term\, który łączy naukę języka polskiego z zabawą i innowacją. Nasz program to doskonała okazja\, aby poprzez zabawę\, kreatywność i interakcję rozwijać umiejętności językowe w międzynarodowym środowisku. \n\n\n\nPodczas ferii dzieci będą miały okazję brać udział w różnorodnych zajęciach\, które nie tylko pobudzają wyobraźnię\, ale także pomagają w rozwoju umiejętności językowych. W programie przewidziane są zajęcia edukacyjne\, taneczne\, plastyczne i artystyczne\, które są idealnie dostosowane do potrzeb młodych uczestników.\n\n\nNie przegapcie tej wyjątkowej okazji do rozwijania pasji i talentów Waszych dzieci w przyjaznej i stymulującej atmosferze. Liczba miejsc jest ograniczona\, więc zachęcamy do szybkiego zgłaszania uczestnictwa.\nProgram ferii wspiera Hammersmith United Charities. Thank you.\n\n\n\n\nNasze ferie odbędą się w dniach od 17 lutego do 21 lutego 2025 w Polskim Ośrodku Kulturalnym Polish Social & Cultural Association. Każdy dzień to nowa porcja wiedzy\, zabawy i emocji! W programie m.in.:\n\n\n– Warsztaty plastyczne: tworzenie plakatów\, flag\, kotylionów i innych prac związanych z polskimi świętami\n– Ciekawe rozmowy o wymarzonych zawodach i rysowanie postaci z nimi związanych\, spotkania z inspirującymi osobami\n– Poznawanie historii polskiej i wspólne prace grupowe\n– Gra terenowa z zagadkami i zadaniami\n– Tworzenie ozdób\, takich jak kwiaty z bibuły i mozaiki z symbolami pokoju\n– Wspólne śpiewanie tradycyjnych piosenek\n– Nauka polskich rękodzieł\, w tym wycinanek i kolorowanie\n\n\nWszystko to pod okiem wykwalifikowanej i pełnej pasji kadry pedagogicznej\, która zadba o bezpieczeństwo\, dobrą zabawę i niezapomniane wspomnienia Waszych pociech!\n\n\nCena tego wyjątkowego tygodniowego programu to jedyne £50 za cały tydzień (10£ za dzień ) W cenę wliczone są wszystkie materiały potrzebne do zajęć\, opieka w godzinach 9:00-13:00.\n\n\nNie zwlekajcie! Liczba miejsc jest ograniczona\, a zainteresowanie duże. Zapiszcie swoje dzieci już dziś i pozwólcie im przeżyć przygodę pełną wiedzy\, zabawy i niezapomnianych wspomnień!\n\n\n\n\nKontakt: Masz pytania?\nSkontaktuj się z nami: info@polskaszkola.uk\nZ niecierpliwością czekamy na Wasze zgłoszenia.\n\n\nZ poważaniem\,\nDaria Wilkinson\nKoordynatorka programu \,\,Ferie z językiem polskim”
URL:https://polskaszkola.uk/event/half-term-z-jezykiem-polski/
CATEGORIES:Ogłoszenia i komunikaty,Projekty i konkursy,Terminy zapisów i rekrutacji,Wydarzenia szkolne,Wyjścia i wycieczki,Zajęcia dodatkowe,Zajęcia specjalne
ATTACH;FMTTYPE=image/png:https://polskaszkola.uk/wp-content/uploads/2024/08/Strategies-Grow-on-Social-Networks-Instagram-Post-Carousel-.png
END:VEVENT
BEGIN:VEVENT
DTSTART;TZID=Europe/London:20241207T090000
DTEND;TZID=Europe/London:20241207T130000
DTSTAMP:20260421T215001
CREATED:20240809T162019Z
LAST-MODIFIED:20240809T162019Z
UID:10000050-1733562000-1733576400@polskaszkola.uk
SUMMARY:Mikołajki
DESCRIPTION:Mikołajki w Polskiej Szkole Ravenscourt Park \nMikołajki to jedno z najbardziej oczekiwanych świąt przez dzieci w Polsce\, a w polskiej szkole sobotniej jest to okazja do świętowania polskich tradycji w radosnej\, świątecznej atmosferze. W pierwszą sobotę grudnia\, kiedy w szkołach odbywa się obchód Mikołajek\, cała społeczność szkolna zanurza się w magii tego dnia.
URL:https://polskaszkola.uk/event/mikolajki-2/
CATEGORIES:Projekty i konkursy,Święta i uroczystości,Zajęcia lekcyjne,Zajęcia specjalne
ATTACH;FMTTYPE=image/jpeg:https://polskaszkola.uk/wp-content/uploads/2023/08/8-09.12.2023-Mikolajki-warsztaty-swiateczne-copy.jpg
END:VEVENT
BEGIN:VEVENT
DTSTART;TZID=Europe/London:20240615T093000
DTEND;TZID=Europe/London:20240615T130000
DTSTAMP:20260421T215001
CREATED:20240106T180515Z
LAST-MODIFIED:20240106T180515Z
UID:10000032-1718443800-1718456400@polskaszkola.uk
SUMMARY:Dzień Ojca
DESCRIPTION:Dzień Ojca to ważna okazja do celebracji i refleksji nad znaczeniem ojców w naszym życiu. To dzień\, kiedy uczniowie\, nauczyciele i rodziny łączą się\, aby wyrazić wdzięczność i docenienie dla ojców i ich nieocenionej roli w wychowaniu i rozwoju dzieci. \nDzień Ojca to także okazja do promowania polskich tradycji i kultury. Uczymy nasze dzieci o znaczeniu tego święta w Polsce i innych krajach\, łącząc tradycje z globalnymi wartościami rodzicielstwa. To ważne w kształtowaniu tożsamości kulturowej i globalnego zrozumienia. \nW naszej szkole wierzymy\, że każdy ojciec odgrywa kluczową rolę w życiu swojego dziecka. Dzień Ojca w Polskiej Szkole Ravenscourt Park to nie tylko święto\, ale także symboliczne przypomnienie o naszym zaangażowaniu w wspieranie rodziny i jej rozwoju. To wydarzenie podkreśla nasze przekonanie\, że silne więzi rodzinne są fundamentem dla zdrowego społeczeństwa. \n 
URL:https://polskaszkola.uk/event/dzien-ojca/
CATEGORIES:Spotkania rodziców,Święta i uroczystości,Święta Polskie,Wydarzenia szkolne
ATTACH;FMTTYPE=image/jpeg:https://polskaszkola.uk/wp-content/uploads/2024/01/Polska-szkola-Ravenscourt-Park-13.jpg
END:VEVENT
BEGIN:VEVENT
DTSTART;TZID=Europe/London:20240420T093000
DTEND;TZID=Europe/London:20240420T130000
DTSTAMP:20260421T215001
CREATED:20240106T163522Z
LAST-MODIFIED:20240410T062959Z
UID:10000026-1713605400-1713618000@polskaszkola.uk
SUMMARY:Dzień Ziemi
DESCRIPTION:Dzień Ziemi\, obchodzony corocznie 22 kwietnia\, jest szczególnym momentem\, kiedy zwracamy uwagę na naszą planetę i na to\, jak możemy dbać o jej przyszłość. Polska szkoła\, jako placówka edukacyjna z głębokimi korzeniami w tradycji i kulturze\, przykłada dużą wagę do świadomości ekologicznej swoich uczniów. Lekcja poświęcona Dniu Ziemi jest nie tylko okazją do nauki o środowiskowych wyzwaniach\, ale również do przemyślenia roli\, jaką każdy z nas może odegrać w ochronie naszego domu – Ziemi. \nDlaczego lekcja o Dniu Ziemi jest ważna?\nW dobie globalnych zmian klimatycznych i degradacji środowiska\, edukacja ekologiczna staje się niezbędna. Polska szkoła\, poprzez lekcje poświęcone Dniu Ziemi\, dąży do ukształtowania postaw odpowiedzialności i szacunku dla przyrody. Jest to szczególnie istotne dla młodego pokolenia\, które będzie musiało stawić czoła ekologicznym wyzwaniom przyszłości. Lekcja ta ma za zadanie nie tylko edukować\, ale również inspirować do działania i poszukiwania zrównoważonych rozwiązań. \nCele lekcji o Dniu Ziemi\nGłównym celem lekcji o Dniu Ziemi jest podniesienie świadomości ekologicznej uczniów. Pragniemy\, aby młodzi ludzie rozumiejąc złożoność ekosystemów\, nauczyli się doceniać ich wartość i zrozumieli konsekwencje ludzkiej działalności dla środowiska. Poprzez interaktywne zajęcia\, dyskusje oraz projekty\, uczniowie mają okazję zgłębiać tematy związane z ochroną środowiska\, takie jak recykling\, zrównoważone rolnictwo czy oszczędzanie zasobów naturalnych. Lekcja ta ma również na celu pokazanie\, jak ważne jest działanie lokalne w kontekście globalnych wyzwań.
URL:https://polskaszkola.uk/event/dzien-ziemi/
CATEGORIES:Wydarzenia szkolne
ATTACH;FMTTYPE=image/png:https://polskaszkola.uk/wp-content/uploads/2024/01/Polska-szkola-Ravenscourt-Park-21.png
END:VEVENT
BEGIN:VEVENT
DTSTART;TZID=Europe/London:20240413T093000
DTEND;TZID=Europe/London:20240511T130000
DTSTAMP:20260421T215001
CREATED:20240106T155518Z
LAST-MODIFIED:20240418T200010Z
UID:10000023-1713000600-1715432400@polskaszkola.uk
SUMMARY:Konkurs szkolny
DESCRIPTION:Ogłoszenie konkursu szkolnego\n z okazji Święta Polskiej Muzyki i Plastyki \nPolska Szkoła w Ravenscourt Park ogłasza konkurs szkolny organizowany z okazji Święta Polskiej Muzyki i Plastyki. Wydarzenie skierowane jest do uczniów polonijnych uczęszczających do naszej placówki\, a jego celem jest rozbudzenie zamiłowania do sztuki wśród dzieci wywodzących się z polskich rodzin mieszkających w Wielkiej Brytanii. \nKonkurs podzielony jest na dwie kategorie wiekowe \nUczniowie klas 0-3 mogą wziąć udział w konkursie plastycznym „Kolorowe nutki na pięciolini”\, polegającym na stworzeniu dowolną techniką pracy łączącej motywy muzyczne z elementami graficznymi.\nZ kolei starsi uczniowie z klas 4-8 wezmą udział w konkursie plastycznym  „Uśmiechnięty fortepian”\, którego celem jest wykonanie kreatywnej ilustrację z udziałem instrumentu muzycznego. \nRoztrzygnięcie konkursu szkolnego 11.05.2024 – prezentacja prac \n \n 
URL:https://polskaszkola.uk/event/konkurs-szkolny/
CATEGORIES:Święta i uroczystości,Święta Polskie,Zajęcia specjalne
ATTACH;FMTTYPE=image/jpeg:https://polskaszkola.uk/wp-content/uploads/2024/01/Polska-szkola-Ravenscourt-Park-10.jpg
END:VEVENT
END:VCALENDAR